BEGIN:VCALENDAR
VERSION:2.0
PRODID:-//Sargento Reginauro - ECPv6.15.14//NONSGML v1.0//EN
CALSCALE:GREGORIAN
METHOD:PUBLISH
X-ORIGINAL-URL:https://sargentoreginauro.com.br
X-WR-CALDESC:Eventos para Sargento Reginauro
REFRESH-INTERVAL;VALUE=DURATION:PT1H
X-Robots-Tag:noindex
X-PUBLISHED-TTL:PT1H
BEGIN:VTIMEZONE
TZID:America/Sao_Paulo
BEGIN:STANDARD
TZOFFSETFROM:-0200
TZOFFSETTO:-0300
TZNAME:-03
DTSTART:20180218T020000
END:STANDARD
BEGIN:DAYLIGHT
TZOFFSETFROM:-0300
TZOFFSETTO:-0200
TZNAME:-02
DTSTART:20181104T030000
END:DAYLIGHT
BEGIN:STANDARD
TZOFFSETFROM:-0200
TZOFFSETTO:-0300
TZNAME:-03
DTSTART:20190217T020000
END:STANDARD
END:VTIMEZONE
BEGIN:VEVENT
DTSTART;TZID=America/Sao_Paulo:20191129T180000
DTEND;TZID=America/Sao_Paulo:20191129T200000
DTSTAMP:20260423T184209
CREATED:20191128T141804Z
LAST-MODIFIED:20191128T141804Z
UID:3513-1575050400-1575057600@sargentoreginauro.com.br
SUMMARY:Reunião
DESCRIPTION:
URL:https://sargentoreginauro.com.br/event/reuniao-15/
END:VEVENT
BEGIN:VEVENT
DTSTART;TZID=America/Sao_Paulo:20191129T180000
DTEND;TZID=America/Sao_Paulo:20191129T193000
DTSTAMP:20260423T184209
CREATED:20191128T141827Z
LAST-MODIFIED:20191128T141827Z
UID:3515-1575050400-1575055800@sargentoreginauro.com.br
SUMMARY:Confraternização Núcleo Mauá
DESCRIPTION:
URL:https://sargentoreginauro.com.br/event/confraternizacao-nucleo-maua/
END:VEVENT
BEGIN:VEVENT
DTSTART;TZID=America/Sao_Paulo:20191129T163000
DTEND;TZID=America/Sao_Paulo:20191129T173000
DTSTAMP:20260423T184209
CREATED:20191128T141653Z
LAST-MODIFIED:20191128T141653Z
UID:3509-1575045000-1575048600@sargentoreginauro.com.br
SUMMARY:Visita ao Vila do Mar
DESCRIPTION:
URL:https://sargentoreginauro.com.br/event/visita-ao-vila-do-mar-3/
END:VEVENT
BEGIN:VEVENT
DTSTART;TZID=America/Sao_Paulo:20191129T153000
DTEND;TZID=America/Sao_Paulo:20191129T170000
DTSTAMP:20260423T184209
CREATED:20191128T141628Z
LAST-MODIFIED:20191128T141628Z
UID:3507-1575041400-1575046800@sargentoreginauro.com.br
SUMMARY:Racha BMs
DESCRIPTION:
URL:https://sargentoreginauro.com.br/event/racha-bms-2/
END:VEVENT
BEGIN:VEVENT
DTSTART;TZID=America/Sao_Paulo:20191129T093000
DTEND;TZID=America/Sao_Paulo:20191129T103000
DTSTAMP:20260423T184209
CREATED:20191128T141536Z
LAST-MODIFIED:20191128T141536Z
UID:3505-1575019800-1575023400@sargentoreginauro.com.br
SUMMARY:Reunião com PMs - Curió
DESCRIPTION:
URL:https://sargentoreginauro.com.br/event/reuniao-com-pms-curio/
END:VEVENT
BEGIN:VEVENT
DTSTART;TZID=America/Sao_Paulo:20191128T183000
DTEND;TZID=America/Sao_Paulo:20191128T203000
DTSTAMP:20260423T184209
CREATED:20191128T141408Z
LAST-MODIFIED:20191128T141408Z
UID:3501-1574965800-1574973000@sargentoreginauro.com.br
SUMMARY:Palestra Primeiros Socorros
DESCRIPTION:
URL:https://sargentoreginauro.com.br/event/palestra-primeiros-socorros-6/
END:VEVENT
BEGIN:VEVENT
DTSTART;TZID=America/Sao_Paulo:20191128T153000
DTEND;TZID=America/Sao_Paulo:20191128T163000
DTSTAMP:20260423T184209
CREATED:20191128T141344Z
LAST-MODIFIED:20191128T141344Z
UID:3499-1574955000-1574958600@sargentoreginauro.com.br
SUMMARY:Reunião
DESCRIPTION:
URL:https://sargentoreginauro.com.br/event/reuniao-14/
END:VEVENT
BEGIN:VEVENT
DTSTART;TZID=America/Sao_Paulo:20191128T093000
DTEND;TZID=America/Sao_Paulo:20191128T100000
DTSTAMP:20260423T184209
CREATED:20191128T141432Z
LAST-MODIFIED:20191128T141432Z
UID:3503-1574933400-1574935200@sargentoreginauro.com.br
SUMMARY:Sessão Ordinária
DESCRIPTION:
URL:https://sargentoreginauro.com.br/event/sessao-ordinaria-75/
END:VEVENT
BEGIN:VEVENT
DTSTART;TZID=America/Sao_Paulo:20191127T190000
DTEND;TZID=America/Sao_Paulo:20191127T210000
DTSTAMP:20260423T184209
CREATED:20191126T145930Z
LAST-MODIFIED:20191126T145930Z
UID:3470-1574881200-1574888400@sargentoreginauro.com.br
SUMMARY:Sessão Solene 30 anos do Grupo AME
DESCRIPTION:
URL:https://sargentoreginauro.com.br/event/sessao-solene-30-anos-do-grupo-ame/
END:VEVENT
BEGIN:VEVENT
DTSTART;TZID=America/Sao_Paulo:20191127T093000
DTEND;TZID=America/Sao_Paulo:20191127T130000
DTSTAMP:20260423T184209
CREATED:20191126T150002Z
LAST-MODIFIED:20191126T150002Z
UID:3472-1574847000-1574859600@sargentoreginauro.com.br
SUMMARY:Sessão Ordinária
DESCRIPTION:
URL:https://sargentoreginauro.com.br/event/sessao-ordinaria-74/
END:VEVENT
BEGIN:VEVENT
DTSTART;TZID=America/Sao_Paulo:20191127T090000
DTEND;TZID=America/Sao_Paulo:20191127T110000
DTSTAMP:20260423T184209
CREATED:20191126T150304Z
LAST-MODIFIED:20191126T150304Z
UID:3474-1574845200-1574852400@sargentoreginauro.com.br
SUMMARY:Sessão Solene em homenagem aos profissionais da segurança pública.
DESCRIPTION:
URL:https://sargentoreginauro.com.br/event/sessao-solene-em-homenagem-aos-profissionais-da-seguranca-publica/
END:VEVENT
BEGIN:VEVENT
DTSTART;TZID=America/Sao_Paulo:20191126T100000
DTEND;TZID=America/Sao_Paulo:20191127T170000
DTSTAMP:20260423T184209
CREATED:20191126T142239Z
LAST-MODIFIED:20191126T142239Z
UID:3468-1574762400-1574874000@sargentoreginauro.com.br
SUMMARY:Viagem à Brasília
DESCRIPTION:
URL:https://sargentoreginauro.com.br/event/viagem-a-brasilia-2/
END:VEVENT
BEGIN:VEVENT
DTSTART;TZID=America/Sao_Paulo:20191126T093000
DTEND;TZID=America/Sao_Paulo:20191126T130000
DTSTAMP:20260423T184209
CREATED:20191125T132350Z
LAST-MODIFIED:20191125T132350Z
UID:3463-1574760600-1574773200@sargentoreginauro.com.br
SUMMARY:Sessão Ordinária
DESCRIPTION:
URL:https://sargentoreginauro.com.br/event/sessao-ordinaria-73/
END:VEVENT
BEGIN:VEVENT
DTSTART;TZID=America/Sao_Paulo:20191126T090000
DTEND;TZID=America/Sao_Paulo:20191126T100000
DTSTAMP:20260423T184209
CREATED:20191125T132324Z
LAST-MODIFIED:20191125T132324Z
UID:3461-1574758800-1574762400@sargentoreginauro.com.br
SUMMARY:Reunião da Comissão Especial de Apreciação de Matérias que alterem o Plano Diretor
DESCRIPTION:
URL:https://sargentoreginauro.com.br/event/reuniao-da-comissao-especial-de-apreciacao-de-materias-que-alterem-o-plano-diretor/
END:VEVENT
BEGIN:VEVENT
DTSTART;TZID=America/Sao_Paulo:20191125T183000
DTEND;TZID=America/Sao_Paulo:20191125T203000
DTSTAMP:20260423T184209
CREATED:20191125T132300Z
LAST-MODIFIED:20191125T132300Z
UID:3459-1574706600-1574713800@sargentoreginauro.com.br
SUMMARY:Pacto de Cooperação - Ambiente: Educação
DESCRIPTION:
URL:https://sargentoreginauro.com.br/event/pacto-de-cooperacao-ambiente-educacao/
END:VEVENT
BEGIN:VEVENT
DTSTART;TZID=America/Sao_Paulo:20191125T143000
DTEND;TZID=America/Sao_Paulo:20191125T153000
DTSTAMP:20260423T184209
CREATED:20191125T132237Z
LAST-MODIFIED:20191125T132237Z
UID:3457-1574692200-1574695800@sargentoreginauro.com.br
SUMMARY:Reunião CMBCE e Correios
DESCRIPTION:
URL:https://sargentoreginauro.com.br/event/reuniao-cmbce-e-correios/
END:VEVENT
BEGIN:VEVENT
DTSTART;TZID=America/Sao_Paulo:20191125T093000
DTEND;TZID=America/Sao_Paulo:20191125T103000
DTSTAMP:20260423T184209
CREATED:20191125T132056Z
LAST-MODIFIED:20191125T132056Z
UID:3455-1574674200-1574677800@sargentoreginauro.com.br
SUMMARY:Reunião
DESCRIPTION:
URL:https://sargentoreginauro.com.br/event/reuniao-13/
END:VEVENT
BEGIN:VEVENT
DTSTART;TZID=America/Sao_Paulo:20191124T080000
DTEND;TZID=America/Sao_Paulo:20191124T133000
DTSTAMP:20260423T184209
CREATED:20191121T140711Z
LAST-MODIFIED:20191121T140711Z
UID:3399-1574582400-1574602200@sargentoreginauro.com.br
SUMMARY:1º Torneio de Tiro dos Profissionais da Segurança
DESCRIPTION:
URL:https://sargentoreginauro.com.br/event/1o-torneio-de-tiro-dos-profissionais-da-seguranca/
END:VEVENT
BEGIN:VEVENT
DTSTART;TZID=America/Sao_Paulo:20191122T143000
DTEND;TZID=America/Sao_Paulo:20191122T163000
DTSTAMP:20260423T184209
CREATED:20191121T140636Z
LAST-MODIFIED:20191121T140636Z
UID:3397-1574433000-1574440200@sargentoreginauro.com.br
SUMMARY:Reunião
DESCRIPTION:
URL:https://sargentoreginauro.com.br/event/reuniao-12/
END:VEVENT
BEGIN:VEVENT
DTSTART;TZID=America/Sao_Paulo:20191122T083000
DTEND;TZID=America/Sao_Paulo:20191122T103000
DTSTAMP:20260423T184209
CREATED:20191121T140613Z
LAST-MODIFIED:20191121T140613Z
UID:3395-1574411400-1574418600@sargentoreginauro.com.br
SUMMARY:XIII Seminário Nacional dos Agentes de Segurança do Poder Judiciário da União
DESCRIPTION:
URL:https://sargentoreginauro.com.br/event/xiii-seminario-nacional-dos-agentes-de-seguranca-do-poder-judiciario-da-uniao/
END:VEVENT
BEGIN:VEVENT
DTSTART;TZID=America/Sao_Paulo:20191122T060000
DTEND;TZID=America/Sao_Paulo:20191122T070000
DTSTAMP:20260423T184209
CREATED:20191121T140540Z
LAST-MODIFIED:20191121T140540Z
UID:3393-1574402400-1574406000@sargentoreginauro.com.br
SUMMARY:Aulão da 3ª idade - Cidadania Ativa
DESCRIPTION:
URL:https://sargentoreginauro.com.br/event/aulao-da-3a-idade-cidadania-ativa-26/
END:VEVENT
BEGIN:VEVENT
DTSTART;TZID=America/Sao_Paulo:20191121T200000
DTEND;TZID=America/Sao_Paulo:20191121T213000
DTSTAMP:20260423T184209
CREATED:20191121T125113Z
LAST-MODIFIED:20191121T125113Z
UID:3389-1574366400-1574371800@sargentoreginauro.com.br
SUMMARY:Abertura Natal de Luz Fortaleza/Show Alceu Valença
DESCRIPTION:
URL:https://sargentoreginauro.com.br/event/abertura-natal-de-luz-fortaleza-show-alceu-valenca/
END:VEVENT
BEGIN:VEVENT
DTSTART;TZID=America/Sao_Paulo:20191121T180000
DTEND;TZID=America/Sao_Paulo:20191121T210000
DTSTAMP:20260423T184209
CREATED:20191120T143935Z
LAST-MODIFIED:20191120T143935Z
UID:3367-1574359200-1574370000@sargentoreginauro.com.br
SUMMARY:Confraternização com as coordenadoras PSBS
DESCRIPTION:
URL:https://sargentoreginauro.com.br/event/confraternizacao-com-as-coordenadoras-psbs/
END:VEVENT
BEGIN:VEVENT
DTSTART;TZID=America/Sao_Paulo:20191121T153000
DTEND;TZID=America/Sao_Paulo:20191121T163000
DTSTAMP:20260423T184209
CREATED:20191121T125050Z
LAST-MODIFIED:20191121T125050Z
UID:3387-1574350200-1574353800@sargentoreginauro.com.br
SUMMARY:Reunião e Gravação Correios
DESCRIPTION:
URL:https://sargentoreginauro.com.br/event/reuniao-e-gravacao-correios/
END:VEVENT
BEGIN:VEVENT
DTSTART;TZID=America/Sao_Paulo:20191121T130000
DTEND;TZID=America/Sao_Paulo:20191121T133000
DTSTAMP:20260423T184209
CREATED:20191121T125024Z
LAST-MODIFIED:20191121T125024Z
UID:3385-1574341200-1574343000@sargentoreginauro.com.br
SUMMARY:Atendimento
DESCRIPTION:
URL:https://sargentoreginauro.com.br/event/atendimento-36/
END:VEVENT
BEGIN:VEVENT
DTSTART;TZID=America/Sao_Paulo:20191121T093000
DTEND;TZID=America/Sao_Paulo:20191121T130000
DTSTAMP:20260423T184209
CREATED:20191120T143738Z
LAST-MODIFIED:20191120T143738Z
UID:3365-1574328600-1574341200@sargentoreginauro.com.br
SUMMARY:Sessão Ordinária
DESCRIPTION:
URL:https://sargentoreginauro.com.br/event/sessao-ordinaria-72/
END:VEVENT
BEGIN:VEVENT
DTSTART;TZID=America/Sao_Paulo:20191121T090000
DTEND;TZID=America/Sao_Paulo:20191121T093000
DTSTAMP:20260423T184209
CREATED:20191121T124957Z
LAST-MODIFIED:20191121T124957Z
UID:3383-1574326800-1574328600@sargentoreginauro.com.br
SUMMARY:Atendimento
DESCRIPTION:
URL:https://sargentoreginauro.com.br/event/atendimento-35/
END:VEVENT
BEGIN:VEVENT
DTSTART;TZID=America/Sao_Paulo:20191120T183000
DTEND;TZID=America/Sao_Paulo:20191120T203000
DTSTAMP:20260423T184209
CREATED:20191119T202408Z
LAST-MODIFIED:20191119T202408Z
UID:3358-1574274600-1574281800@sargentoreginauro.com.br
SUMMARY:Palestra Primeiros Socorros
DESCRIPTION:
URL:https://sargentoreginauro.com.br/event/palestra-primeiros-socorros-5/
END:VEVENT
BEGIN:VEVENT
DTSTART;TZID=America/Sao_Paulo:20191120T130000
DTEND;TZID=America/Sao_Paulo:20191120T133000
DTSTAMP:20260423T184209
CREATED:20191119T202325Z
LAST-MODIFIED:20191119T202325Z
UID:3356-1574254800-1574256600@sargentoreginauro.com.br
SUMMARY:Atendimento
DESCRIPTION:
URL:https://sargentoreginauro.com.br/event/atendimento-34/
END:VEVENT
BEGIN:VEVENT
DTSTART;TZID=America/Sao_Paulo:20191120T093000
DTEND;TZID=America/Sao_Paulo:20191120T130000
DTSTAMP:20260423T184209
CREATED:20191119T202300Z
LAST-MODIFIED:20191119T202300Z
UID:3354-1574242200-1574254800@sargentoreginauro.com.br
SUMMARY:Sessão Ordinária
DESCRIPTION:
URL:https://sargentoreginauro.com.br/event/sessao-ordinaria-71/
END:VEVENT
END:VCALENDAR