BEGIN:VCALENDAR
VERSION:2.0
PRODID:-//Sargento Reginauro - ECPv6.15.14//NONSGML v1.0//EN
CALSCALE:GREGORIAN
METHOD:PUBLISH
X-ORIGINAL-URL:https://sargentoreginauro.com.br
X-WR-CALDESC:Eventos para Sargento Reginauro
REFRESH-INTERVAL;VALUE=DURATION:PT1H
X-Robots-Tag:noindex
X-PUBLISHED-TTL:PT1H
BEGIN:VTIMEZONE
TZID:America/Sao_Paulo
BEGIN:STANDARD
TZOFFSETFROM:-0200
TZOFFSETTO:-0300
TZNAME:-03
DTSTART:20180218T020000
END:STANDARD
BEGIN:DAYLIGHT
TZOFFSETFROM:-0300
TZOFFSETTO:-0200
TZNAME:-02
DTSTART:20181104T030000
END:DAYLIGHT
BEGIN:STANDARD
TZOFFSETFROM:-0200
TZOFFSETTO:-0300
TZNAME:-03
DTSTART:20190217T020000
END:STANDARD
END:VTIMEZONE
BEGIN:VEVENT
DTSTART;TZID=America/Sao_Paulo:20191206T200000
DTEND;TZID=America/Sao_Paulo:20191206T220000
DTSTAMP:20260423T152638
CREATED:20191205T133127Z
LAST-MODIFIED:20191205T133127Z
UID:3707-1575662400-1575669600@sargentoreginauro.com.br
SUMMARY:Inauguração Butiquim EOS
DESCRIPTION:
URL:https://sargentoreginauro.com.br/event/inauguracao-butiquim-eos/
END:VEVENT
BEGIN:VEVENT
DTSTART;TZID=America/Sao_Paulo:20191206T170000
DTEND;TZID=America/Sao_Paulo:20191206T190000
DTSTAMP:20260423T152638
CREATED:20191205T133042Z
LAST-MODIFIED:20191205T133042Z
UID:3705-1575651600-1575658800@sargentoreginauro.com.br
SUMMARY:Reunião/Confraternização BMs
DESCRIPTION:
URL:https://sargentoreginauro.com.br/event/reuniao-confraternizacao-bms/
END:VEVENT
BEGIN:VEVENT
DTSTART;TZID=America/Sao_Paulo:20191205T153000
DTEND;TZID=America/Sao_Paulo:20191205T190000
DTSTAMP:20260423T152638
CREATED:20191205T133001Z
LAST-MODIFIED:20191205T133001Z
UID:3703-1575559800-1575572400@sargentoreginauro.com.br
SUMMARY:Natal da Melhor Idade
DESCRIPTION:
URL:https://sargentoreginauro.com.br/event/natal-da-melhor-idade/
END:VEVENT
BEGIN:VEVENT
DTSTART;TZID=America/Sao_Paulo:20191205T100000
DTEND;TZID=America/Sao_Paulo:20191205T130000
DTSTAMP:20260423T152638
CREATED:20191205T132938Z
LAST-MODIFIED:20191205T132938Z
UID:3701-1575540000-1575550800@sargentoreginauro.com.br
SUMMARY:Reunião com Militares sobre o Reajuste Salarial
DESCRIPTION:
URL:https://sargentoreginauro.com.br/event/reuniao-com-militares-sobre-o-reajuste-salarial/
END:VEVENT
BEGIN:VEVENT
DTSTART;TZID=America/Sao_Paulo:20191205T093000
DTEND;TZID=America/Sao_Paulo:20191205T130000
DTSTAMP:20260423T152638
CREATED:20191205T132911Z
LAST-MODIFIED:20191205T132911Z
UID:3699-1575538200-1575550800@sargentoreginauro.com.br
SUMMARY:Sessão Ordinária
DESCRIPTION:
URL:https://sargentoreginauro.com.br/event/sessao-ordinaria-77/
END:VEVENT
BEGIN:VEVENT
DTSTART;TZID=America/Sao_Paulo:20191204T150000
DTEND;TZID=America/Sao_Paulo:20191204T170000
DTSTAMP:20260423T152638
CREATED:20191204T141847Z
LAST-MODIFIED:20191204T141847Z
UID:3683-1575471600-1575478800@sargentoreginauro.com.br
SUMMARY:Sessão Solene em comemoração ao Dia dos Correios
DESCRIPTION:
URL:https://sargentoreginauro.com.br/event/sessao-solene-em-comemoracao-ao-dia-dos-correios/
END:VEVENT
BEGIN:VEVENT
DTSTART;TZID=America/Sao_Paulo:20191204T133000
DTEND;TZID=America/Sao_Paulo:20191204T140000
DTSTAMP:20260423T152638
CREATED:20191204T140714Z
LAST-MODIFIED:20191204T140714Z
UID:3681-1575466200-1575468000@sargentoreginauro.com.br
SUMMARY:Atendimento
DESCRIPTION:
URL:https://sargentoreginauro.com.br/event/atendimento-37/
END:VEVENT
BEGIN:VEVENT
DTSTART;TZID=America/Sao_Paulo:20191204T093000
DTEND;TZID=America/Sao_Paulo:20191204T130000
DTSTAMP:20260423T152638
CREATED:20191204T140555Z
LAST-MODIFIED:20191204T140555Z
UID:3679-1575451800-1575464400@sargentoreginauro.com.br
SUMMARY:Sessão Ordinária
DESCRIPTION:
URL:https://sargentoreginauro.com.br/event/sessao-ordinaria-76/
END:VEVENT
BEGIN:VEVENT
DTSTART;TZID=America/Sao_Paulo:20191204T090000
DTEND;TZID=America/Sao_Paulo:20191204T100000
DTSTAMP:20260423T152638
CREATED:20191204T140456Z
LAST-MODIFIED:20191204T140456Z
UID:3677-1575450000-1575453600@sargentoreginauro.com.br
SUMMARY:Reunião da Comissão Especial de Apreciação que alterem o Plano Diretor
DESCRIPTION:
URL:https://sargentoreginauro.com.br/event/reuniao-da-comissao-especial-de-apreciacao-que-alterem-o-plano-diretor/
END:VEVENT
BEGIN:VEVENT
DTSTART;TZID=America/Sao_Paulo:20191204T073000
DTEND;TZID=America/Sao_Paulo:20191204T083000
DTSTAMP:20260423T152638
CREATED:20191204T134106Z
LAST-MODIFIED:20191204T134130Z
UID:3674-1575444600-1575448200@sargentoreginauro.com.br
SUMMARY:Confraternização Núcleo Nidobox
DESCRIPTION:
URL:https://sargentoreginauro.com.br/event/confraternizacao-nucleo-nidobox-ii/
END:VEVENT
BEGIN:VEVENT
DTSTART;TZID=America/Sao_Paulo:20191203T080000
DTEND;TZID=America/Sao_Paulo:20191204T170000
DTSTAMP:20260423T152638
CREATED:20191202T155013Z
LAST-MODIFIED:20191202T155013Z
UID:3574-1575360000-1575478800@sargentoreginauro.com.br
SUMMARY:Viagem para Brasília
DESCRIPTION:
URL:https://sargentoreginauro.com.br/event/viagem-para-brasilia/
END:VEVENT
BEGIN:VEVENT
DTSTART;TZID=America/Sao_Paulo:20191202T163000
DTEND;TZID=America/Sao_Paulo:20191202T173000
DTSTAMP:20260423T152638
CREATED:20191202T154451Z
LAST-MODIFIED:20191202T154451Z
UID:3572-1575304200-1575307800@sargentoreginauro.com.br
SUMMARY:Formatura dos 218 Novos Bombeiros Militares do Estado do Ceará
DESCRIPTION:
URL:https://sargentoreginauro.com.br/event/formatura-dos-218-novos-bombeiros-militares-do-estado-do-ceara/
END:VEVENT
BEGIN:VEVENT
DTSTART;TZID=America/Sao_Paulo:20191202T143000
DTEND;TZID=America/Sao_Paulo:20191202T153000
DTSTAMP:20260423T152638
CREATED:20191202T154418Z
LAST-MODIFIED:20191202T154418Z
UID:3570-1575297000-1575300600@sargentoreginauro.com.br
SUMMARY:Reunião com a Comunidade do Cristo Redentor
DESCRIPTION:
URL:https://sargentoreginauro.com.br/event/reuniao-com-a-comunidade-do-cristo-redentor/
END:VEVENT
BEGIN:VEVENT
DTSTART;TZID=America/Sao_Paulo:20191202T113000
DTEND;TZID=America/Sao_Paulo:20191202T123000
DTSTAMP:20260423T152638
CREATED:20191202T154351Z
LAST-MODIFIED:20191202T154351Z
UID:3568-1575286200-1575289800@sargentoreginauro.com.br
SUMMARY:Reunião
DESCRIPTION:
URL:https://sargentoreginauro.com.br/event/reuniao-16/
END:VEVENT
BEGIN:VEVENT
DTSTART;TZID=America/Sao_Paulo:20191201T060000
DTEND;TZID=America/Sao_Paulo:20191201T080000
DTSTAMP:20260423T152638
CREATED:20191128T142516Z
LAST-MODIFIED:20191128T142516Z
UID:3526-1575180000-1575187200@sargentoreginauro.com.br
SUMMARY:Corrida 4° Longão Beach
DESCRIPTION:
URL:https://sargentoreginauro.com.br/event/corrida-4-longao-beach/
END:VEVENT
BEGIN:VEVENT
DTSTART;TZID=America/Sao_Paulo:20191130T190000
DTEND;TZID=America/Sao_Paulo:20191130T200000
DTSTAMP:20260423T152638
CREATED:20191128T142422Z
LAST-MODIFIED:20191128T142422Z
UID:3524-1575140400-1575144000@sargentoreginauro.com.br
SUMMARY:Confraternização Projeto Resgatando Valores e Cooperativa Viver Melhor
DESCRIPTION:
URL:https://sargentoreginauro.com.br/event/confraternizacao-projeto-resgatando-valores-e-cooperativa-viver-melhor/
END:VEVENT
BEGIN:VEVENT
DTSTART;TZID=America/Sao_Paulo:20191130T140000
DTEND;TZID=America/Sao_Paulo:20191130T170000
DTSTAMP:20260423T152638
CREATED:20191128T142346Z
LAST-MODIFIED:20191128T142346Z
UID:3522-1575122400-1575133200@sargentoreginauro.com.br
SUMMARY:Plenária Estadual do Podemos Ceará
DESCRIPTION:
URL:https://sargentoreginauro.com.br/event/plenaria-estadual-do-podemos-ceara/
END:VEVENT
BEGIN:VEVENT
DTSTART;TZID=America/Sao_Paulo:20191130T093000
DTEND;TZID=America/Sao_Paulo:20191130T103000
DTSTAMP:20260423T152638
CREATED:20191128T142316Z
LAST-MODIFIED:20191128T142316Z
UID:3520-1575106200-1575109800@sargentoreginauro.com.br
SUMMARY:Homenagem a classificação da Triatleta Cearense Vittoria Lopes
DESCRIPTION:
URL:https://sargentoreginauro.com.br/event/homenagem-a-classificacao-da-triatleta-cearense-vittoria-lopes/
END:VEVENT
BEGIN:VEVENT
DTSTART;TZID=America/Sao_Paulo:20191130T080000
DTEND;TZID=America/Sao_Paulo:20191130T120000
DTSTAMP:20260423T152638
CREATED:20191128T142125Z
LAST-MODIFIED:20191128T142125Z
UID:3517-1575100800-1575115200@sargentoreginauro.com.br
SUMMARY:Encontro com a Cidade
DESCRIPTION:
URL:https://sargentoreginauro.com.br/event/encontro-com-a-cidade/
END:VEVENT
BEGIN:VEVENT
DTSTART;TZID=America/Sao_Paulo:20191129T180000
DTEND;TZID=America/Sao_Paulo:20191129T203000
DTSTAMP:20260423T152638
CREATED:20191128T141739Z
LAST-MODIFIED:20191128T141739Z
UID:3511-1575050400-1575059400@sargentoreginauro.com.br
SUMMARY:Solenidade de entrega da Medalha da Abolição ao CBMCE
DESCRIPTION:
URL:https://sargentoreginauro.com.br/event/solenidade-de-entrega-da-medalha-da-abolicao-ao-cbmce/
END:VEVENT
BEGIN:VEVENT
DTSTART;TZID=America/Sao_Paulo:20191129T180000
DTEND;TZID=America/Sao_Paulo:20191129T200000
DTSTAMP:20260423T152638
CREATED:20191128T141804Z
LAST-MODIFIED:20191128T141804Z
UID:3513-1575050400-1575057600@sargentoreginauro.com.br
SUMMARY:Reunião
DESCRIPTION:
URL:https://sargentoreginauro.com.br/event/reuniao-15/
END:VEVENT
BEGIN:VEVENT
DTSTART;TZID=America/Sao_Paulo:20191129T180000
DTEND;TZID=America/Sao_Paulo:20191129T193000
DTSTAMP:20260423T152638
CREATED:20191128T141827Z
LAST-MODIFIED:20191128T141827Z
UID:3515-1575050400-1575055800@sargentoreginauro.com.br
SUMMARY:Confraternização Núcleo Mauá
DESCRIPTION:
URL:https://sargentoreginauro.com.br/event/confraternizacao-nucleo-maua/
END:VEVENT
BEGIN:VEVENT
DTSTART;TZID=America/Sao_Paulo:20191129T163000
DTEND;TZID=America/Sao_Paulo:20191129T173000
DTSTAMP:20260423T152638
CREATED:20191128T141653Z
LAST-MODIFIED:20191128T141653Z
UID:3509-1575045000-1575048600@sargentoreginauro.com.br
SUMMARY:Visita ao Vila do Mar
DESCRIPTION:
URL:https://sargentoreginauro.com.br/event/visita-ao-vila-do-mar-3/
END:VEVENT
BEGIN:VEVENT
DTSTART;TZID=America/Sao_Paulo:20191129T153000
DTEND;TZID=America/Sao_Paulo:20191129T170000
DTSTAMP:20260423T152638
CREATED:20191128T141628Z
LAST-MODIFIED:20191128T141628Z
UID:3507-1575041400-1575046800@sargentoreginauro.com.br
SUMMARY:Racha BMs
DESCRIPTION:
URL:https://sargentoreginauro.com.br/event/racha-bms-2/
END:VEVENT
BEGIN:VEVENT
DTSTART;TZID=America/Sao_Paulo:20191129T093000
DTEND;TZID=America/Sao_Paulo:20191129T103000
DTSTAMP:20260423T152638
CREATED:20191128T141536Z
LAST-MODIFIED:20191128T141536Z
UID:3505-1575019800-1575023400@sargentoreginauro.com.br
SUMMARY:Reunião com PMs - Curió
DESCRIPTION:
URL:https://sargentoreginauro.com.br/event/reuniao-com-pms-curio/
END:VEVENT
BEGIN:VEVENT
DTSTART;TZID=America/Sao_Paulo:20191128T183000
DTEND;TZID=America/Sao_Paulo:20191128T203000
DTSTAMP:20260423T152638
CREATED:20191128T141408Z
LAST-MODIFIED:20191128T141408Z
UID:3501-1574965800-1574973000@sargentoreginauro.com.br
SUMMARY:Palestra Primeiros Socorros
DESCRIPTION:
URL:https://sargentoreginauro.com.br/event/palestra-primeiros-socorros-6/
END:VEVENT
BEGIN:VEVENT
DTSTART;TZID=America/Sao_Paulo:20191128T153000
DTEND;TZID=America/Sao_Paulo:20191128T163000
DTSTAMP:20260423T152638
CREATED:20191128T141344Z
LAST-MODIFIED:20191128T141344Z
UID:3499-1574955000-1574958600@sargentoreginauro.com.br
SUMMARY:Reunião
DESCRIPTION:
URL:https://sargentoreginauro.com.br/event/reuniao-14/
END:VEVENT
BEGIN:VEVENT
DTSTART;TZID=America/Sao_Paulo:20191128T093000
DTEND;TZID=America/Sao_Paulo:20191128T100000
DTSTAMP:20260423T152638
CREATED:20191128T141432Z
LAST-MODIFIED:20191128T141432Z
UID:3503-1574933400-1574935200@sargentoreginauro.com.br
SUMMARY:Sessão Ordinária
DESCRIPTION:
URL:https://sargentoreginauro.com.br/event/sessao-ordinaria-75/
END:VEVENT
BEGIN:VEVENT
DTSTART;TZID=America/Sao_Paulo:20191127T190000
DTEND;TZID=America/Sao_Paulo:20191127T210000
DTSTAMP:20260423T152638
CREATED:20191126T145930Z
LAST-MODIFIED:20191126T145930Z
UID:3470-1574881200-1574888400@sargentoreginauro.com.br
SUMMARY:Sessão Solene 30 anos do Grupo AME
DESCRIPTION:
URL:https://sargentoreginauro.com.br/event/sessao-solene-30-anos-do-grupo-ame/
END:VEVENT
BEGIN:VEVENT
DTSTART;TZID=America/Sao_Paulo:20191127T093000
DTEND;TZID=America/Sao_Paulo:20191127T130000
DTSTAMP:20260423T152638
CREATED:20191126T150002Z
LAST-MODIFIED:20191126T150002Z
UID:3472-1574847000-1574859600@sargentoreginauro.com.br
SUMMARY:Sessão Ordinária
DESCRIPTION:
URL:https://sargentoreginauro.com.br/event/sessao-ordinaria-74/
END:VEVENT
END:VCALENDAR