BEGIN:VCALENDAR
VERSION:2.0
PRODID:-//Sargento Reginauro - ECPv6.15.14//NONSGML v1.0//EN
CALSCALE:GREGORIAN
METHOD:PUBLISH
X-WR-CALNAME:Sargento Reginauro
X-ORIGINAL-URL:https://sargentoreginauro.com.br
X-WR-CALDESC:Eventos para Sargento Reginauro
REFRESH-INTERVAL;VALUE=DURATION:PT1H
X-Robots-Tag:noindex
X-PUBLISHED-TTL:PT1H
BEGIN:VTIMEZONE
TZID:America/Sao_Paulo
BEGIN:STANDARD
TZOFFSETFROM:-0200
TZOFFSETTO:-0300
TZNAME:-03
DTSTART:20180218T020000
END:STANDARD
BEGIN:DAYLIGHT
TZOFFSETFROM:-0300
TZOFFSETTO:-0200
TZNAME:-02
DTSTART:20181104T030000
END:DAYLIGHT
BEGIN:STANDARD
TZOFFSETFROM:-0200
TZOFFSETTO:-0300
TZNAME:-03
DTSTART:20190217T020000
END:STANDARD
END:VTIMEZONE
BEGIN:VEVENT
DTSTART;TZID=America/Sao_Paulo:20190930T140000
DTEND;TZID=America/Sao_Paulo:20190930T150000
DTSTAMP:20260424T232035
CREATED:20190930T132140Z
LAST-MODIFIED:20190930T132140Z
UID:2604-1569852000-1569855600@sargentoreginauro.com.br
SUMMARY:Reunião com as Associações dos Militares (APS)
DESCRIPTION:
URL:https://sargentoreginauro.com.br/event/reuniao-com-as-associacoes-dos-militares-aps/
END:VEVENT
BEGIN:VEVENT
DTSTART;TZID=America/Sao_Paulo:20190930T103000
DTEND;TZID=America/Sao_Paulo:20190930T113000
DTSTAMP:20260424T232035
CREATED:20190930T132105Z
LAST-MODIFIED:20190930T132105Z
UID:2602-1569839400-1569843000@sargentoreginauro.com.br
SUMMARY:Visita AESP
DESCRIPTION:
URL:https://sargentoreginauro.com.br/event/visita-aesp/
END:VEVENT
BEGIN:VEVENT
DTSTART;TZID=America/Sao_Paulo:20190930T090000
DTEND;TZID=America/Sao_Paulo:20190930T110000
DTSTAMP:20260424T232035
CREATED:20190930T132042Z
LAST-MODIFIED:20190930T132042Z
UID:2600-1569834000-1569841200@sargentoreginauro.com.br
SUMMARY:Palestra Crise Suicida e Estratégias de Prevenção - Realização CBMCE
DESCRIPTION:
URL:https://sargentoreginauro.com.br/event/palestra-crise-suicida-e-estrategias-de-prevencao-realizacao-cbmce/
END:VEVENT
BEGIN:VEVENT
DTSTART;TZID=America/Sao_Paulo:20190929T060000
DTEND;TZID=America/Sao_Paulo:20190929T080000
DTSTAMP:20260424T232035
CREATED:20190924T141518Z
LAST-MODIFIED:20190924T141518Z
UID:2463-1569736800-1569744000@sargentoreginauro.com.br
SUMMARY:10º Circuito de Corridas Farmácias Pague Menos
DESCRIPTION:
URL:https://sargentoreginauro.com.br/event/10o-circuito-de-corridas-farmacias-pague-menos/
END:VEVENT
BEGIN:VEVENT
DTSTART;TZID=America/Sao_Paulo:20190928T190000
DTEND;TZID=America/Sao_Paulo:20190928T210000
DTSTAMP:20260424T232035
CREATED:20190924T141428Z
LAST-MODIFIED:20190924T141428Z
UID:2461-1569697200-1569704400@sargentoreginauro.com.br
SUMMARY:Visita Praça Presidente Kennedy
DESCRIPTION:
URL:https://sargentoreginauro.com.br/event/visita-praca-presidente-kennedy/
END:VEVENT
BEGIN:VEVENT
DTSTART;TZID=America/Sao_Paulo:20190927T150000
DTEND;TZID=America/Sao_Paulo:20190928T150000
DTSTAMP:20260424T232035
CREATED:20190924T141233Z
LAST-MODIFIED:20190924T141233Z
UID:2459-1569596400-1569682800@sargentoreginauro.com.br
SUMMARY:Ida para Sobral com Capitão Wagner
DESCRIPTION:
URL:https://sargentoreginauro.com.br/event/ida-para-sobral-com-capitao-wagner/
END:VEVENT
BEGIN:VEVENT
DTSTART;TZID=America/Sao_Paulo:20190927T140000
DTEND;TZID=America/Sao_Paulo:20190927T150000
DTSTAMP:20260424T232035
CREATED:20190924T141156Z
LAST-MODIFIED:20190924T141156Z
UID:2457-1569592800-1569596400@sargentoreginauro.com.br
SUMMARY:Visita Empresa VPX SERVIÇOS (Celso)
DESCRIPTION:
URL:https://sargentoreginauro.com.br/event/visita-empresa-vpx-servicos-celso/
END:VEVENT
BEGIN:VEVENT
DTSTART;TZID=America/Sao_Paulo:20190927T090000
DTEND;TZID=America/Sao_Paulo:20190927T110000
DTSTAMP:20260424T232035
CREATED:20190924T141128Z
LAST-MODIFIED:20190924T141128Z
UID:2455-1569574800-1569582000@sargentoreginauro.com.br
SUMMARY:Rodada de Palestras Setembro Amarelo
DESCRIPTION:
URL:https://sargentoreginauro.com.br/event/rodada-de-palestras-setembro-amarelo/
END:VEVENT
BEGIN:VEVENT
DTSTART;TZID=America/Sao_Paulo:20190927T060000
DTEND;TZID=America/Sao_Paulo:20190927T070000
DTSTAMP:20260424T232035
CREATED:20190924T141047Z
LAST-MODIFIED:20190924T141047Z
UID:2453-1569564000-1569567600@sargentoreginauro.com.br
SUMMARY:Aulão da 3ª Idade - Cidadania Ativa
DESCRIPTION:
URL:https://sargentoreginauro.com.br/event/aulao-da-3a-idade-cidadania-ativa-19/
END:VEVENT
BEGIN:VEVENT
DTSTART;TZID=America/Sao_Paulo:20190926T150000
DTEND;TZID=America/Sao_Paulo:20190926T170000
DTSTAMP:20260424T232035
CREATED:20190924T141026Z
LAST-MODIFIED:20190924T141026Z
UID:2451-1569510000-1569517200@sargentoreginauro.com.br
SUMMARY:Reunião da Diretoria APS
DESCRIPTION:
URL:https://sargentoreginauro.com.br/event/reuniao-da-diretoria-aps/
END:VEVENT
BEGIN:VEVENT
DTSTART;TZID=America/Sao_Paulo:20190926T140000
DTEND;TZID=America/Sao_Paulo:20190926T150000
DTSTAMP:20260424T232035
CREATED:20190924T140748Z
LAST-MODIFIED:20190924T140748Z
UID:2449-1569506400-1569510000@sargentoreginauro.com.br
SUMMARY:Sessão Solene em comemoração ao 1º ano de funcionamento da Casa da Mulher Brasileira
DESCRIPTION:
URL:https://sargentoreginauro.com.br/event/sessao-solene-em-comemoracao-ao-1o-ano-de-funcionamento-da-casa-da-mulher-brasileira/
END:VEVENT
BEGIN:VEVENT
DTSTART;TZID=America/Sao_Paulo:20190926T100000
DTEND;TZID=America/Sao_Paulo:20190926T120000
DTSTAMP:20260424T232035
CREATED:20190924T140711Z
LAST-MODIFIED:20190924T140711Z
UID:2447-1569492000-1569499200@sargentoreginauro.com.br
SUMMARY:Visita a postos de salvamento GMF
DESCRIPTION:
URL:https://sargentoreginauro.com.br/event/visita-a-postos-de-salvamento-gmf/
END:VEVENT
BEGIN:VEVENT
DTSTART;TZID=America/Sao_Paulo:20190926T093000
DTEND;TZID=America/Sao_Paulo:20190926T130000
DTSTAMP:20260424T232035
CREATED:20190924T140632Z
LAST-MODIFIED:20190924T140632Z
UID:2445-1569490200-1569502800@sargentoreginauro.com.br
SUMMARY:Sessão Ordinária
DESCRIPTION:
URL:https://sargentoreginauro.com.br/event/sessao-ordinaria-49/
END:VEVENT
BEGIN:VEVENT
DTSTART;TZID=America/Sao_Paulo:20190926T083000
DTEND;TZID=America/Sao_Paulo:20190926T090000
DTSTAMP:20260424T232035
CREATED:20190924T140531Z
LAST-MODIFIED:20190924T140531Z
UID:2443-1569486600-1569488400@sargentoreginauro.com.br
SUMMARY:Audiência de Ação trabalhista
DESCRIPTION:
URL:https://sargentoreginauro.com.br/event/audiencia-de-acao-trabalhista/
END:VEVENT
BEGIN:VEVENT
DTSTART;TZID=America/Sao_Paulo:20190925T133000
DTEND;TZID=America/Sao_Paulo:20190925T143000
DTSTAMP:20260424T232035
CREATED:20190924T135150Z
LAST-MODIFIED:20190924T135150Z
UID:2441-1569418200-1569421800@sargentoreginauro.com.br
SUMMARY:Atendimento
DESCRIPTION:
URL:https://sargentoreginauro.com.br/event/atendimento-24/
END:VEVENT
BEGIN:VEVENT
DTSTART;TZID=America/Sao_Paulo:20190925T093000
DTEND;TZID=America/Sao_Paulo:20190925T130000
DTSTAMP:20260424T232035
CREATED:20190924T135127Z
LAST-MODIFIED:20190924T135127Z
UID:2439-1569403800-1569416400@sargentoreginauro.com.br
SUMMARY:Sessão Ordinária
DESCRIPTION:
URL:https://sargentoreginauro.com.br/event/sessao-ordinaria-48/
END:VEVENT
BEGIN:VEVENT
DTSTART;TZID=America/Sao_Paulo:20190925T080000
DTEND;TZID=America/Sao_Paulo:20190925T090000
DTSTAMP:20260424T232035
CREATED:20190924T135053Z
LAST-MODIFIED:20190924T135053Z
UID:2437-1569398400-1569402000@sargentoreginauro.com.br
SUMMARY:Reunião da Comissão Desenvolvimento Econômico\, Turismo\, Emprego e Renda
DESCRIPTION:
URL:https://sargentoreginauro.com.br/event/reuniao-da-comissao-desenvolvimento-economico-turismo-emprego-e-renda-7/
END:VEVENT
BEGIN:VEVENT
DTSTART;TZID=America/Sao_Paulo:20190924T170000
DTEND;TZID=America/Sao_Paulo:20190924T183000
DTSTAMP:20260424T232035
CREATED:20190924T134445Z
LAST-MODIFIED:20190924T134445Z
UID:2435-1569344400-1569349800@sargentoreginauro.com.br
SUMMARY:Reunião
DESCRIPTION:
URL:https://sargentoreginauro.com.br/event/reuniao-3/
END:VEVENT
BEGIN:VEVENT
DTSTART;TZID=America/Sao_Paulo:20190924T093000
DTEND;TZID=America/Sao_Paulo:20190924T130000
DTSTAMP:20260424T232035
CREATED:20190924T134419Z
LAST-MODIFIED:20190924T134419Z
UID:2433-1569317400-1569330000@sargentoreginauro.com.br
SUMMARY:Sessão Ordinária
DESCRIPTION:
URL:https://sargentoreginauro.com.br/event/sessao-ordinaria-47/
END:VEVENT
BEGIN:VEVENT
DTSTART;TZID=America/Sao_Paulo:20190921T140000
DTEND;TZID=America/Sao_Paulo:20190921T143000
DTSTAMP:20260424T232035
CREATED:20190920T125021Z
LAST-MODIFIED:20190920T125021Z
UID:2426-1569074400-1569076200@sargentoreginauro.com.br
SUMMARY:Aulão Beneficente (brinquedo) Professor Rafael
DESCRIPTION:
URL:https://sargentoreginauro.com.br/event/aulao-beneficente-brinquedo-professor-rafael/
END:VEVENT
BEGIN:VEVENT
DTSTART;TZID=America/Sao_Paulo:20190920T100000
DTEND;TZID=America/Sao_Paulo:20190920T120000
DTSTAMP:20260424T232035
CREATED:20190917T114632Z
LAST-MODIFIED:20190917T114632Z
UID:2392-1568973600-1568980800@sargentoreginauro.com.br
SUMMARY:Visita Feira da Cidade 2000 c/ Capitao Wagner
DESCRIPTION:
URL:https://sargentoreginauro.com.br/event/visita-feira-da-cidade-2000-c-capitao-wagner/
END:VEVENT
BEGIN:VEVENT
DTSTART;TZID=America/Sao_Paulo:20190920T090000
DTEND;TZID=America/Sao_Paulo:20190920T100000
DTSTAMP:20260424T232035
CREATED:20190919T120237Z
LAST-MODIFIED:20190919T120237Z
UID:2408-1568970000-1568973600@sargentoreginauro.com.br
SUMMARY:Visita ao 5° Batalhão
DESCRIPTION:
URL:https://sargentoreginauro.com.br/event/visita-ao-5-batalhao/
END:VEVENT
BEGIN:VEVENT
DTSTART;TZID=America/Sao_Paulo:20190920T070000
DTEND;TZID=America/Sao_Paulo:20190920T080000
DTSTAMP:20260424T232035
CREATED:20190919T120141Z
LAST-MODIFIED:20190919T120141Z
UID:2406-1568962800-1568966400@sargentoreginauro.com.br
SUMMARY:Aulão da 3ª Idade - Cidadania Ativa
DESCRIPTION:
URL:https://sargentoreginauro.com.br/event/aulao-da-3a-idade-cidadania-ativa-18/
END:VEVENT
BEGIN:VEVENT
DTSTART;TZID=America/Sao_Paulo:20190919T193000
DTEND;TZID=America/Sao_Paulo:20190919T203000
DTSTAMP:20260424T232035
CREATED:20190919T120053Z
LAST-MODIFIED:20190919T120053Z
UID:2404-1568921400-1568925000@sargentoreginauro.com.br
SUMMARY:Reunião dos atletas sub 17
DESCRIPTION:
URL:https://sargentoreginauro.com.br/event/reuniao-dos-atletas-sub-17/
END:VEVENT
BEGIN:VEVENT
DTSTART;TZID=America/Sao_Paulo:20190919T150000
DTEND;TZID=America/Sao_Paulo:20190919T163000
DTSTAMP:20260424T232035
CREATED:20190917T114014Z
LAST-MODIFIED:20190917T114014Z
UID:2386-1568905200-1568910600@sargentoreginauro.com.br
SUMMARY:Sessão Solene em comemoração aos 211 anos da Polícia Civil do Estado do Ceará
DESCRIPTION:
URL:https://sargentoreginauro.com.br/event/sessao-solene-em-comemoracao-aos-211-anos-da-policia-civil-do-estado-do-ceara/
END:VEVENT
BEGIN:VEVENT
DTSTART;TZID=America/Sao_Paulo:20190919T140000
DTEND;TZID=America/Sao_Paulo:20190919T150000
DTSTAMP:20260424T232035
CREATED:20190919T120007Z
LAST-MODIFIED:20190919T120007Z
UID:2402-1568901600-1568905200@sargentoreginauro.com.br
SUMMARY:Reunião com Parlamentares da CMF
DESCRIPTION:
URL:https://sargentoreginauro.com.br/event/reuniao-com-parlamentares-da-cmf/
END:VEVENT
BEGIN:VEVENT
DTSTART;TZID=America/Sao_Paulo:20190919T093000
DTEND;TZID=America/Sao_Paulo:20190919T130000
DTSTAMP:20260424T232035
CREATED:20190917T113652Z
LAST-MODIFIED:20190917T113652Z
UID:2382-1568885400-1568898000@sargentoreginauro.com.br
SUMMARY:Sessão Ordinária
DESCRIPTION:
URL:https://sargentoreginauro.com.br/event/sessao-ordinaria-46/
END:VEVENT
BEGIN:VEVENT
DTSTART;TZID=America/Sao_Paulo:20190918T190000
DTEND;TZID=America/Sao_Paulo:20190918T200000
DTSTAMP:20260424T232035
CREATED:20190916T125646Z
LAST-MODIFIED:20190916T125646Z
UID:2371-1568833200-1568836800@sargentoreginauro.com.br
SUMMARY:Pedal da vida - Equipe 100 limites
DESCRIPTION:
URL:https://sargentoreginauro.com.br/event/pedal-da-vida-equipe-100-limites/
END:VEVENT
BEGIN:VEVENT
DTSTART;TZID=America/Sao_Paulo:20190918T180000
DTEND;TZID=America/Sao_Paulo:20190918T190000
DTSTAMP:20260424T232035
CREATED:20190916T125618Z
LAST-MODIFIED:20190916T125618Z
UID:2369-1568829600-1568833200@sargentoreginauro.com.br
SUMMARY:Live com a psicóloga Caroline Treigher
DESCRIPTION:
URL:https://sargentoreginauro.com.br/event/live-com-a-psicologa-caroline-treigher/
END:VEVENT
BEGIN:VEVENT
DTSTART;TZID=America/Sao_Paulo:20190918T153000
DTEND;TZID=America/Sao_Paulo:20190918T163000
DTSTAMP:20260424T232035
CREATED:20190916T125550Z
LAST-MODIFIED:20190916T125550Z
UID:2367-1568820600-1568824200@sargentoreginauro.com.br
SUMMARY:Café com as Coordenadoras
DESCRIPTION:
URL:https://sargentoreginauro.com.br/event/cafe-com-as-coordenadoras-2/
END:VEVENT
END:VCALENDAR