BEGIN:VCALENDAR
VERSION:2.0
PRODID:-//Sargento Reginauro - ECPv6.15.14//NONSGML v1.0//EN
CALSCALE:GREGORIAN
METHOD:PUBLISH
X-ORIGINAL-URL:https://sargentoreginauro.com.br
X-WR-CALDESC:Eventos para Sargento Reginauro
REFRESH-INTERVAL;VALUE=DURATION:PT1H
X-Robots-Tag:noindex
X-PUBLISHED-TTL:PT1H
BEGIN:VTIMEZONE
TZID:America/Sao_Paulo
BEGIN:STANDARD
TZOFFSETFROM:-0200
TZOFFSETTO:-0300
TZNAME:-03
DTSTART:20180218T020000
END:STANDARD
BEGIN:DAYLIGHT
TZOFFSETFROM:-0300
TZOFFSETTO:-0200
TZNAME:-02
DTSTART:20181104T030000
END:DAYLIGHT
BEGIN:STANDARD
TZOFFSETFROM:-0200
TZOFFSETTO:-0300
TZNAME:-03
DTSTART:20190217T020000
END:STANDARD
END:VTIMEZONE
BEGIN:VEVENT
DTSTART;TZID=America/Sao_Paulo:20191013T090000
DTEND;TZID=America/Sao_Paulo:20191013T100000
DTSTAMP:20260424T164758
CREATED:20191009T141104Z
LAST-MODIFIED:20191009T141104Z
UID:2728-1570957200-1570960800@sargentoreginauro.com.br
SUMMARY:Rei do Tatame 2019 - BD Team
DESCRIPTION:
URL:https://sargentoreginauro.com.br/event/rei-do-tatame-2019-bd-team/
END:VEVENT
BEGIN:VEVENT
DTSTART;TZID=America/Sao_Paulo:20191012T190000
DTEND;TZID=America/Sao_Paulo:20191012T200000
DTSTAMP:20260424T164758
CREATED:20191009T140242Z
LAST-MODIFIED:20191009T140242Z
UID:2726-1570906800-1570910400@sargentoreginauro.com.br
SUMMARY:Lançamento do Livro do Dr. Felipe Acopiara
DESCRIPTION:
URL:https://sargentoreginauro.com.br/event/lancamento-do-livro-do-dr-felipe-acopiara/
END:VEVENT
BEGIN:VEVENT
DTSTART;TZID=America/Sao_Paulo:20191012T073000
DTEND;TZID=America/Sao_Paulo:20191012T110000
DTSTAMP:20260424T164758
CREATED:20191009T140214Z
LAST-MODIFIED:20191009T140214Z
UID:2724-1570865400-1570878000@sargentoreginauro.com.br
SUMMARY:Ação Social e Festa das Crianças - Cidadania Ativa
DESCRIPTION:
URL:https://sargentoreginauro.com.br/event/acao-social-e-festa-das-criancas-cidadania-ativa/
END:VEVENT
BEGIN:VEVENT
DTSTART;TZID=America/Sao_Paulo:20191011T180000
DTEND;TZID=America/Sao_Paulo:20191011T183000
DTSTAMP:20260424T164758
CREATED:20191009T140144Z
LAST-MODIFIED:20191009T140144Z
UID:2722-1570816800-1570818600@sargentoreginauro.com.br
SUMMARY:Visita ao posto policial da Comunidade do Guetto
DESCRIPTION:
URL:https://sargentoreginauro.com.br/event/visita-ao-posto-policial-da-comunidade-do-guetto/
END:VEVENT
BEGIN:VEVENT
DTSTART;TZID=America/Sao_Paulo:20191011T170000
DTEND;TZID=America/Sao_Paulo:20191011T180000
DTSTAMP:20260424T164758
CREATED:20191009T140106Z
LAST-MODIFIED:20191009T140106Z
UID:2720-1570813200-1570816800@sargentoreginauro.com.br
SUMMARY:Aulão da 3ª Idade - Cidadania Ativa
DESCRIPTION:
URL:https://sargentoreginauro.com.br/event/aulao-da-3a-idade-cidadania-ativa-21/
END:VEVENT
BEGIN:VEVENT
DTSTART;TZID=America/Sao_Paulo:20191011T153000
DTEND;TZID=America/Sao_Paulo:20191011T163000
DTSTAMP:20260424T164758
CREATED:20191009T140014Z
LAST-MODIFIED:20191009T140014Z
UID:2718-1570807800-1570811400@sargentoreginauro.com.br
SUMMARY:Café com as Coordenadoras
DESCRIPTION:
URL:https://sargentoreginauro.com.br/event/cafe-com-as-coordenadoras-3/
END:VEVENT
BEGIN:VEVENT
DTSTART;TZID=America/Sao_Paulo:20191011T083000
DTEND;TZID=America/Sao_Paulo:20191011T103000
DTSTAMP:20260424T164758
CREATED:20191009T135949Z
LAST-MODIFIED:20191009T135949Z
UID:2716-1570782600-1570789800@sargentoreginauro.com.br
SUMMARY:Palestra Primeiros Socorros
DESCRIPTION:
URL:https://sargentoreginauro.com.br/event/palestra-primeiros-socorros-3/
END:VEVENT
BEGIN:VEVENT
DTSTART;TZID=America/Sao_Paulo:20191010T170000
DTEND;TZID=America/Sao_Paulo:20191010T180000
DTSTAMP:20260424T164758
CREATED:20191009T135912Z
LAST-MODIFIED:20191009T135912Z
UID:2714-1570726800-1570730400@sargentoreginauro.com.br
SUMMARY:Café com Pr. Flávio José
DESCRIPTION:
URL:https://sargentoreginauro.com.br/event/cafe-com-pr-flavio-jose/
END:VEVENT
BEGIN:VEVENT
DTSTART;TZID=America/Sao_Paulo:20191010T130000
DTEND;TZID=America/Sao_Paulo:20191010T133000
DTSTAMP:20260424T164758
CREATED:20191009T134901Z
LAST-MODIFIED:20191009T134901Z
UID:2712-1570712400-1570714200@sargentoreginauro.com.br
SUMMARY:Atendimento
DESCRIPTION:
URL:https://sargentoreginauro.com.br/event/atendimento-26/
END:VEVENT
BEGIN:VEVENT
DTSTART;TZID=America/Sao_Paulo:20191010T093000
DTEND;TZID=America/Sao_Paulo:20191010T130000
DTSTAMP:20260424T164758
CREATED:20191009T134710Z
LAST-MODIFIED:20191009T134710Z
UID:2710-1570699800-1570712400@sargentoreginauro.com.br
SUMMARY:Sessão Ordinária
DESCRIPTION:
URL:https://sargentoreginauro.com.br/event/sessao-ordinaria-54/
END:VEVENT
BEGIN:VEVENT
DTSTART;TZID=America/Sao_Paulo:20191009T183000
DTEND;TZID=America/Sao_Paulo:20191009T193000
DTSTAMP:20260424T164758
CREATED:20191007T134822Z
LAST-MODIFIED:20191007T134822Z
UID:2691-1570645800-1570649400@sargentoreginauro.com.br
SUMMARY:Palestra Primeiros Socorros
DESCRIPTION:
URL:https://sargentoreginauro.com.br/event/palestra-primeiros-socorros-2/
END:VEVENT
BEGIN:VEVENT
DTSTART;TZID=America/Sao_Paulo:20191009T160000
DTEND;TZID=America/Sao_Paulo:20191009T170000
DTSTAMP:20260424T164758
CREATED:20191007T134757Z
LAST-MODIFIED:20191007T134757Z
UID:2689-1570636800-1570640400@sargentoreginauro.com.br
SUMMARY:Visita a um projeto de prevenção à violência
DESCRIPTION:
URL:https://sargentoreginauro.com.br/event/visita-a-um-projeto-de-prevencao-a-violencia/
END:VEVENT
BEGIN:VEVENT
DTSTART;TZID=America/Sao_Paulo:20191009T140000
DTEND;TZID=America/Sao_Paulo:20191009T143000
DTSTAMP:20260424T164758
CREATED:20191007T134107Z
LAST-MODIFIED:20191007T134107Z
UID:2687-1570629600-1570631400@sargentoreginauro.com.br
SUMMARY:Reunião com Dep. Soldado Noelio e Anderson Bezerra (GM)
DESCRIPTION:
URL:https://sargentoreginauro.com.br/event/reuniao-com-dep-soldado-noelio-e-anderson-bezerra-gm/
END:VEVENT
BEGIN:VEVENT
DTSTART;TZID=America/Sao_Paulo:20191009T093000
DTEND;TZID=America/Sao_Paulo:20191009T130000
DTSTAMP:20260424T164758
CREATED:20191007T134006Z
LAST-MODIFIED:20191007T134028Z
UID:2685-1570613400-1570626000@sargentoreginauro.com.br
SUMMARY:Sessão Ordinária
DESCRIPTION:
URL:https://sargentoreginauro.com.br/event/sessao-ordinaria-53/
END:VEVENT
BEGIN:VEVENT
DTSTART;TZID=America/Sao_Paulo:20191006T170000
DTEND;TZID=America/Sao_Paulo:20191006T180000
DTSTAMP:20260424T164758
CREATED:20191003T125919Z
LAST-MODIFIED:20191003T125919Z
UID:2666-1570381200-1570384800@sargentoreginauro.com.br
SUMMARY:Torneio de Futebol - Entrega de Troféus
DESCRIPTION:
URL:https://sargentoreginauro.com.br/event/torneio-de-futebol-entrega-de-trofeus/
END:VEVENT
BEGIN:VEVENT
DTSTART;TZID=America/Sao_Paulo:20191006T080000
DTEND;TZID=America/Sao_Paulo:20191006T110000
DTSTAMP:20260424T164758
CREATED:20191003T125740Z
LAST-MODIFIED:20191003T125740Z
UID:2664-1570348800-1570359600@sargentoreginauro.com.br
SUMMARY:IV Torneio APS de Futebol
DESCRIPTION:
URL:https://sargentoreginauro.com.br/event/iv-torneio-aps-de-futebol-2/
END:VEVENT
BEGIN:VEVENT
DTSTART;TZID=America/Sao_Paulo:20191005T200000
DTEND;TZID=America/Sao_Paulo:20191005T213000
DTSTAMP:20260424T164758
CREATED:20191003T125626Z
LAST-MODIFIED:20191003T125626Z
UID:2662-1570305600-1570311000@sargentoreginauro.com.br
SUMMARY:38º Encontro Bimestral de Motociclistas de Fortaleza
DESCRIPTION:
URL:https://sargentoreginauro.com.br/event/38o-encontro-bimestral-de-motociclistas-de-fortaleza/
END:VEVENT
BEGIN:VEVENT
DTSTART;TZID=America/Sao_Paulo:20191005T193000
DTEND;TZID=America/Sao_Paulo:20191005T203000
DTSTAMP:20260424T164758
CREATED:20191003T125545Z
LAST-MODIFIED:20191003T125545Z
UID:2660-1570303800-1570307400@sargentoreginauro.com.br
SUMMARY:Procissão Conjunto São Francisco - Bairro Antônio Bezerra
DESCRIPTION:
URL:https://sargentoreginauro.com.br/event/procissao-conjunto-sao-francisco-bairro-antonio-bezerra/
END:VEVENT
BEGIN:VEVENT
DTSTART;TZID=America/Sao_Paulo:20191005T153000
DTEND;TZID=America/Sao_Paulo:20191005T163000
DTSTAMP:20260424T164758
CREATED:20191003T125358Z
LAST-MODIFIED:20191003T125358Z
UID:2658-1570289400-1570293000@sargentoreginauro.com.br
SUMMARY:Aulão Beneficente (brinquedos) Colégio Lucê
DESCRIPTION:
URL:https://sargentoreginauro.com.br/event/aulao-beneficente-brinquedos-colegio-luce/
END:VEVENT
BEGIN:VEVENT
DTSTART;TZID=America/Sao_Paulo:20191005T103000
DTEND;TZID=America/Sao_Paulo:20191005T120000
DTSTAMP:20260424T164758
CREATED:20191003T125323Z
LAST-MODIFIED:20191003T125323Z
UID:2656-1570271400-1570276800@sargentoreginauro.com.br
SUMMARY:Encontro com a Cidade (Grande Jangurussú)
DESCRIPTION:
URL:https://sargentoreginauro.com.br/event/encontro-com-a-cidade-grande-jangurussu/
END:VEVENT
BEGIN:VEVENT
DTSTART;TZID=America/Sao_Paulo:20191005T080000
DTEND;TZID=America/Sao_Paulo:20191005T103000
DTSTAMP:20260424T164758
CREATED:20191003T125255Z
LAST-MODIFIED:20191003T125255Z
UID:2654-1570262400-1570271400@sargentoreginauro.com.br
SUMMARY:IV Torneio APS de Futebol
DESCRIPTION:
URL:https://sargentoreginauro.com.br/event/iv-torneio-aps-de-futebol/
END:VEVENT
BEGIN:VEVENT
DTSTART;TZID=America/Sao_Paulo:20191004T173000
DTEND;TZID=America/Sao_Paulo:20191004T183000
DTSTAMP:20260424T164758
CREATED:20191003T124824Z
LAST-MODIFIED:20191003T124824Z
UID:2652-1570210200-1570213800@sargentoreginauro.com.br
SUMMARY:Aulão Outubro Rosa - Cidadania Ativa
DESCRIPTION:
URL:https://sargentoreginauro.com.br/event/aulao-outubro-rosa-cidadania-ativa/
END:VEVENT
BEGIN:VEVENT
DTSTART;TZID=America/Sao_Paulo:20191004T170000
DTEND;TZID=America/Sao_Paulo:20191004T180000
DTSTAMP:20260424T164758
CREATED:20191003T124758Z
LAST-MODIFIED:20191003T124758Z
UID:2650-1570208400-1570212000@sargentoreginauro.com.br
SUMMARY:Aulão da 3ª Idade - Cidadania Ativa
DESCRIPTION:
URL:https://sargentoreginauro.com.br/event/aulao-da-3a-idade-cidadania-ativa-20/
END:VEVENT
BEGIN:VEVENT
DTSTART;TZID=America/Sao_Paulo:20191004T160000
DTEND;TZID=America/Sao_Paulo:20191004T170000
DTSTAMP:20260424T164758
CREATED:20191003T124733Z
LAST-MODIFIED:20191003T124733Z
UID:2648-1570204800-1570208400@sargentoreginauro.com.br
SUMMARY:Visita ao Vila do Mar
DESCRIPTION:
URL:https://sargentoreginauro.com.br/event/visita-ao-vila-do-mar-2/
END:VEVENT
BEGIN:VEVENT
DTSTART;TZID=America/Sao_Paulo:20191004T100000
DTEND;TZID=America/Sao_Paulo:20191004T110000
DTSTAMP:20260424T164758
CREATED:20191003T124711Z
LAST-MODIFIED:20191003T124711Z
UID:2646-1570183200-1570186800@sargentoreginauro.com.br
SUMMARY:Visita ASPRA
DESCRIPTION:
URL:https://sargentoreginauro.com.br/event/visita-aspra/
END:VEVENT
BEGIN:VEVENT
DTSTART;TZID=America/Sao_Paulo:20191003T190000
DTEND;TZID=America/Sao_Paulo:20191003T200000
DTSTAMP:20260424T164758
CREATED:20191003T124632Z
LAST-MODIFIED:20191003T124632Z
UID:2644-1570129200-1570132800@sargentoreginauro.com.br
SUMMARY:Visita ao Projeto de Dança (Passaré)
DESCRIPTION:
URL:https://sargentoreginauro.com.br/event/visita-ao-projeto-de-danca-passare/
END:VEVENT
BEGIN:VEVENT
DTSTART;TZID=America/Sao_Paulo:20191003T150000
DTEND;TZID=America/Sao_Paulo:20191003T160000
DTSTAMP:20260424T164758
CREATED:20191003T124601Z
LAST-MODIFIED:20191003T124601Z
UID:2642-1570114800-1570118400@sargentoreginauro.com.br
SUMMARY:Reunião com a Guarda Municipal
DESCRIPTION:
URL:https://sargentoreginauro.com.br/event/reuniao-com-a-guarda-municipal/
END:VEVENT
BEGIN:VEVENT
DTSTART;TZID=America/Sao_Paulo:20191003T133000
DTEND;TZID=America/Sao_Paulo:20191003T143000
DTSTAMP:20260424T164758
CREATED:20191003T124528Z
LAST-MODIFIED:20191003T124528Z
UID:2640-1570109400-1570113000@sargentoreginauro.com.br
SUMMARY:Atendimento
DESCRIPTION:
URL:https://sargentoreginauro.com.br/event/atendimento-25/
END:VEVENT
BEGIN:VEVENT
DTSTART;TZID=America/Sao_Paulo:20191003T093000
DTEND;TZID=America/Sao_Paulo:20191003T130000
DTSTAMP:20260424T164758
CREATED:20191003T123959Z
LAST-MODIFIED:20191003T123959Z
UID:2638-1570095000-1570107600@sargentoreginauro.com.br
SUMMARY:Sessão Ordinária
DESCRIPTION:
URL:https://sargentoreginauro.com.br/event/sessao-ordinaria-52/
END:VEVENT
BEGIN:VEVENT
DTSTART;TZID=America/Sao_Paulo:20191003T080000
DTEND;TZID=America/Sao_Paulo:20191003T090000
DTSTAMP:20260424T164758
CREATED:20191003T123127Z
LAST-MODIFIED:20191003T123127Z
UID:2636-1570089600-1570093200@sargentoreginauro.com.br
SUMMARY:Café/Entrevista com Edvaldo do site Focus
DESCRIPTION:
URL:https://sargentoreginauro.com.br/event/cafe-entrevista-com-edvaldo-do-site-focus/
END:VEVENT
END:VCALENDAR