BEGIN:VCALENDAR
VERSION:2.0
PRODID:-//Sargento Reginauro - ECPv6.15.14//NONSGML v1.0//EN
CALSCALE:GREGORIAN
METHOD:PUBLISH
X-ORIGINAL-URL:https://sargentoreginauro.com.br
X-WR-CALDESC:Eventos para Sargento Reginauro
REFRESH-INTERVAL;VALUE=DURATION:PT1H
X-Robots-Tag:noindex
X-PUBLISHED-TTL:PT1H
BEGIN:VTIMEZONE
TZID:America/Sao_Paulo
BEGIN:STANDARD
TZOFFSETFROM:-0200
TZOFFSETTO:-0300
TZNAME:-03
DTSTART:20180218T020000
END:STANDARD
BEGIN:DAYLIGHT
TZOFFSETFROM:-0300
TZOFFSETTO:-0200
TZNAME:-02
DTSTART:20181104T030000
END:DAYLIGHT
BEGIN:STANDARD
TZOFFSETFROM:-0200
TZOFFSETTO:-0300
TZNAME:-03
DTSTART:20190217T020000
END:STANDARD
END:VTIMEZONE
BEGIN:VEVENT
DTSTART;TZID=America/Sao_Paulo:20191219T093000
DTEND;TZID=America/Sao_Paulo:20191219T103000
DTSTAMP:20260423T085512
CREATED:20191219T135630Z
LAST-MODIFIED:20191219T135630Z
UID:3986-1576747800-1576751400@sargentoreginauro.com.br
SUMMARY:Reunião da Comissão Especial de Apreciação que alterem o Plano Diretor
DESCRIPTION:
URL:https://sargentoreginauro.com.br/event/reuniao-da-comissao-especial-de-apreciacao-que-alterem-o-plano-diretor-3/
END:VEVENT
BEGIN:VEVENT
DTSTART;TZID=America/Sao_Paulo:20191218T183000
DTEND;TZID=America/Sao_Paulo:20191218T201000
DTSTAMP:20260423T085512
CREATED:20191218T181438Z
LAST-MODIFIED:20191218T181438Z
UID:3963-1576693800-1576699800@sargentoreginauro.com.br
SUMMARY:Encerramento da escolinha de futsal - Cidadania Ativa
DESCRIPTION:
URL:https://sargentoreginauro.com.br/event/encerramento-da-escolinha-de-futsal-cidadania-ativa/
END:VEVENT
BEGIN:VEVENT
DTSTART;TZID=America/Sao_Paulo:20191218T173000
DTEND;TZID=America/Sao_Paulo:20191218T183000
DTSTAMP:20260423T085512
CREATED:20191217T191249Z
LAST-MODIFIED:20191217T191249Z
UID:3944-1576690200-1576693800@sargentoreginauro.com.br
SUMMARY:Chegada do Papai Noel no CBMCE
DESCRIPTION:
URL:https://sargentoreginauro.com.br/event/chegada-do-papai-noel-no-cbmce/
END:VEVENT
BEGIN:VEVENT
DTSTART;TZID=America/Sao_Paulo:20191218T173000
DTEND;TZID=America/Sao_Paulo:20191218T182000
DTSTAMP:20260423T085512
CREATED:20191218T181352Z
LAST-MODIFIED:20191218T181352Z
UID:3961-1576690200-1576693200@sargentoreginauro.com.br
SUMMARY:Encerramento das aulas de Ritmos - Cidadania Ativa
DESCRIPTION:
URL:https://sargentoreginauro.com.br/event/encerramento-das-aulas-de-ritmos-cidadania-ativa/
END:VEVENT
BEGIN:VEVENT
DTSTART;TZID=America/Sao_Paulo:20191218T100000
DTEND;TZID=America/Sao_Paulo:20191218T120000
DTSTAMP:20260423T085512
CREATED:20191217T191043Z
LAST-MODIFIED:20191217T191043Z
UID:3941-1576663200-1576670400@sargentoreginauro.com.br
SUMMARY:Confraternização da Psicologia da APS
DESCRIPTION:
URL:https://sargentoreginauro.com.br/event/confraternizacao-da-psicologia-da-aps/
END:VEVENT
BEGIN:VEVENT
DTSTART;TZID=America/Sao_Paulo:20191218T100000
DTEND;TZID=America/Sao_Paulo:20191218T110000
DTSTAMP:20260423T085512
CREATED:20191218T181136Z
LAST-MODIFIED:20191218T181136Z
UID:3959-1576663200-1576666800@sargentoreginauro.com.br
SUMMARY:Reunião da Comissão Especial de Apreciação que alterem o Plano Diretor
DESCRIPTION:
URL:https://sargentoreginauro.com.br/event/reuniao-da-comissao-especial-de-apreciacao-que-alterem-o-plano-diretor-2/
END:VEVENT
BEGIN:VEVENT
DTSTART;TZID=America/Sao_Paulo:20191218T093000
DTEND;TZID=America/Sao_Paulo:20191218T140000
DTSTAMP:20260423T085512
CREATED:20191217T191009Z
LAST-MODIFIED:20191217T191009Z
UID:3939-1576661400-1576677600@sargentoreginauro.com.br
SUMMARY:Sessão Ordinária
DESCRIPTION:
URL:https://sargentoreginauro.com.br/event/sessao-ordinaria-81/
END:VEVENT
BEGIN:VEVENT
DTSTART;TZID=America/Sao_Paulo:20191218T090000
DTEND;TZID=America/Sao_Paulo:20191218T120000
DTSTAMP:20260423T085512
CREATED:20191217T190921Z
LAST-MODIFIED:20191217T190921Z
UID:3937-1576659600-1576670400@sargentoreginauro.com.br
SUMMARY:Promoções PMs e BMs de Fortaleza
DESCRIPTION:
URL:https://sargentoreginauro.com.br/event/promocoes-pms-e-bms-de-fortaleza/
END:VEVENT
BEGIN:VEVENT
DTSTART;TZID=America/Sao_Paulo:20191217T150000
DTEND;TZID=America/Sao_Paulo:20191217T163000
DTSTAMP:20260423T085512
CREATED:20191216T153008Z
LAST-MODIFIED:20191216T153008Z
UID:3889-1576594800-1576600200@sargentoreginauro.com.br
SUMMARY:Reunião
DESCRIPTION:
URL:https://sargentoreginauro.com.br/event/reuniao-19/
END:VEVENT
BEGIN:VEVENT
DTSTART;TZID=America/Sao_Paulo:20191217T093000
DTEND;TZID=America/Sao_Paulo:20191217T130000
DTSTAMP:20260423T085512
CREATED:20191216T152942Z
LAST-MODIFIED:20191216T152942Z
UID:3887-1576575000-1576587600@sargentoreginauro.com.br
SUMMARY:Sessão Ordinária
DESCRIPTION:
URL:https://sargentoreginauro.com.br/event/sessao-ordinaria-80/
END:VEVENT
BEGIN:VEVENT
DTSTART;TZID=America/Sao_Paulo:20191216T193000
DTEND;TZID=America/Sao_Paulo:20191216T210000
DTSTAMP:20260423T085512
CREATED:20191216T152738Z
LAST-MODIFIED:20191216T152738Z
UID:3884-1576524600-1576530000@sargentoreginauro.com.br
SUMMARY:Sessão solene em Homenagem aos voluntários que trabalharam na tragédia do Edifício Andreia
DESCRIPTION:
URL:https://sargentoreginauro.com.br/event/sessao-solene-em-homenagem-aos-voluntarios-que-trabalharam-na-tragedia-do-edificio-andreia/
END:VEVENT
BEGIN:VEVENT
DTSTART;TZID=America/Sao_Paulo:20191216T123000
DTEND;TZID=America/Sao_Paulo:20191216T133000
DTSTAMP:20260423T085512
CREATED:20191216T152654Z
LAST-MODIFIED:20191216T152654Z
UID:3882-1576499400-1576503000@sargentoreginauro.com.br
SUMMARY:Encerramento e entrega de certificados da 6ª turma Curso de Corte e Escova - Cidadania Ativa
DESCRIPTION:
URL:https://sargentoreginauro.com.br/event/encerramento-e-entrega-de-certificados-da-6a-turma-curso-de-corte-e-escova-cidadania-ativa/
END:VEVENT
BEGIN:VEVENT
DTSTART;TZID=America/Sao_Paulo:20191216T100000
DTEND;TZID=America/Sao_Paulo:20191216T130000
DTSTAMP:20260423T085512
CREATED:20191216T152506Z
LAST-MODIFIED:20191216T152506Z
UID:3880-1576490400-1576501200@sargentoreginauro.com.br
SUMMARY:Sessão extraordinária
DESCRIPTION:
URL:https://sargentoreginauro.com.br/event/sessao-extraordinaria/
END:VEVENT
BEGIN:VEVENT
DTSTART;TZID=America/Sao_Paulo:20191216T093000
DTEND;TZID=America/Sao_Paulo:20191216T100000
DTSTAMP:20260423T085512
CREATED:20191216T152442Z
LAST-MODIFIED:20191216T152442Z
UID:3878-1576488600-1576490400@sargentoreginauro.com.br
SUMMARY:Reunião
DESCRIPTION:
URL:https://sargentoreginauro.com.br/event/reuniao-18/
END:VEVENT
BEGIN:VEVENT
DTSTART;TZID=America/Sao_Paulo:20191216T083000
DTEND;TZID=America/Sao_Paulo:20191216T090000
DTSTAMP:20260423T085512
CREATED:20191216T152420Z
LAST-MODIFIED:20191216T152420Z
UID:3876-1576485000-1576486800@sargentoreginauro.com.br
SUMMARY:Entrevista para a TV Verdes Mares
DESCRIPTION:
URL:https://sargentoreginauro.com.br/event/entrevista-para-a-tv-verdes-mares/
END:VEVENT
BEGIN:VEVENT
DTSTART;TZID=America/Sao_Paulo:20191215T160000
DTEND;TZID=America/Sao_Paulo:20191215T170000
DTSTAMP:20260423T085512
CREATED:20191216T152347Z
LAST-MODIFIED:20191216T152347Z
UID:3874-1576425600-1576429200@sargentoreginauro.com.br
SUMMARY:Natal das Crianças do João XXIII do Projeto Família Resgatando Valores
DESCRIPTION:
URL:https://sargentoreginauro.com.br/event/natal-das-criancas-do-joao-xxiii-do-projeto-familia-resgatando-valores/
END:VEVENT
BEGIN:VEVENT
DTSTART;TZID=America/Sao_Paulo:20191215T110000
DTEND;TZID=America/Sao_Paulo:20191215T150000
DTSTAMP:20260423T085512
CREATED:20191216T152307Z
LAST-MODIFIED:20191216T152307Z
UID:3872-1576407600-1576422000@sargentoreginauro.com.br
SUMMARY:Confraternização Assessoria Sargento Reginauro
DESCRIPTION:
URL:https://sargentoreginauro.com.br/event/confraternizacao-assessoria-sargento-reginauro/
END:VEVENT
BEGIN:VEVENT
DTSTART;TZID=America/Sao_Paulo:20191215T090000
DTEND;TZID=America/Sao_Paulo:20191215T100000
DTSTAMP:20260423T085512
CREATED:20191216T152055Z
LAST-MODIFIED:20191216T152055Z
UID:3866-1576400400-1576404000@sargentoreginauro.com.br
SUMMARY:Campeonato de vôlei
DESCRIPTION:
URL:https://sargentoreginauro.com.br/event/campeonato-de-volei/
END:VEVENT
BEGIN:VEVENT
DTSTART;TZID=America/Sao_Paulo:20191214T153000
DTEND;TZID=America/Sao_Paulo:20191214T173000
DTSTAMP:20260423T085512
CREATED:20191216T152232Z
LAST-MODIFIED:20191216T152232Z
UID:3870-1576337400-1576344600@sargentoreginauro.com.br
SUMMARY:Mobilização da PM /BM "Tardezinha da Insatisfação"
DESCRIPTION:
URL:https://sargentoreginauro.com.br/event/mobilizacao-da-pm-bm-tardezinha-da-insatisfacao/
END:VEVENT
BEGIN:VEVENT
DTSTART;TZID=America/Sao_Paulo:20191214T120000
DTEND;TZID=America/Sao_Paulo:20191214T140000
DTSTAMP:20260423T085512
CREATED:20191216T152141Z
LAST-MODIFIED:20191216T152141Z
UID:3868-1576324800-1576332000@sargentoreginauro.com.br
SUMMARY:Feijoada com Samba/Confraternização Natalina Centro Automotivo
DESCRIPTION:
URL:https://sargentoreginauro.com.br/event/feijoada-com-samba-confraternizacao-natalina-centro-automotivo/
END:VEVENT
BEGIN:VEVENT
DTSTART;TZID=America/Sao_Paulo:20191214T080000
DTEND;TZID=America/Sao_Paulo:20191214T100000
DTSTAMP:20260423T085512
CREATED:20191216T152020Z
LAST-MODIFIED:20191216T152020Z
UID:3864-1576310400-1576317600@sargentoreginauro.com.br
SUMMARY:X Jogos do Servidor
DESCRIPTION:
URL:https://sargentoreginauro.com.br/event/x-jogos-do-servidor/
END:VEVENT
BEGIN:VEVENT
DTSTART;TZID=America/Sao_Paulo:20191213T180000
DTEND;TZID=America/Sao_Paulo:20191213T200000
DTSTAMP:20260423T085512
CREATED:20191213T144009Z
LAST-MODIFIED:20191213T144009Z
UID:3858-1576260000-1576267200@sargentoreginauro.com.br
SUMMARY:Visita a Quartel
DESCRIPTION:
URL:https://sargentoreginauro.com.br/event/visita-a-quartel-2/
END:VEVENT
BEGIN:VEVENT
DTSTART;TZID=America/Sao_Paulo:20191213T170000
DTEND;TZID=America/Sao_Paulo:20191213T180000
DTSTAMP:20260423T085512
CREATED:20191213T143943Z
LAST-MODIFIED:20191213T143943Z
UID:3856-1576256400-1576260000@sargentoreginauro.com.br
SUMMARY:Confraternização das Turmas do Vila do Mar
DESCRIPTION:
URL:https://sargentoreginauro.com.br/event/confraternizacao-das-turmas-do-vila-do-mar/
END:VEVENT
BEGIN:VEVENT
DTSTART;TZID=America/Sao_Paulo:20191213T080000
DTEND;TZID=America/Sao_Paulo:20191213T090000
DTSTAMP:20260423T085512
CREATED:20191213T143923Z
LAST-MODIFIED:20191213T143923Z
UID:3854-1576224000-1576227600@sargentoreginauro.com.br
SUMMARY:Abertura do Dia da Beleza APS
DESCRIPTION:
URL:https://sargentoreginauro.com.br/event/abertura-do-dia-da-beleza-aps-2/
END:VEVENT
BEGIN:VEVENT
DTSTART;TZID=America/Sao_Paulo:20191213T060000
DTEND;TZID=America/Sao_Paulo:20191213T080000
DTSTAMP:20260423T085512
CREATED:20191213T143901Z
LAST-MODIFIED:20191213T143901Z
UID:3852-1576216800-1576224000@sargentoreginauro.com.br
SUMMARY:Visita a Quartel
DESCRIPTION:
URL:https://sargentoreginauro.com.br/event/visita-a-quartel/
END:VEVENT
BEGIN:VEVENT
DTSTART;TZID=America/Sao_Paulo:20191212T190000
DTEND;TZID=America/Sao_Paulo:20191212T210000
DTSTAMP:20260423T085512
CREATED:20191212T185826Z
LAST-MODIFIED:20191212T185826Z
UID:3840-1576177200-1576184400@sargentoreginauro.com.br
SUMMARY:Reunião
DESCRIPTION:
URL:https://sargentoreginauro.com.br/event/reuniao-17/
END:VEVENT
BEGIN:VEVENT
DTSTART;TZID=America/Sao_Paulo:20191212T133000
DTEND;TZID=America/Sao_Paulo:20191212T153000
DTSTAMP:20260423T085512
CREATED:20191212T185803Z
LAST-MODIFIED:20191212T185803Z
UID:3838-1576157400-1576164600@sargentoreginauro.com.br
SUMMARY:Reunião de Diretoria APS
DESCRIPTION:
URL:https://sargentoreginauro.com.br/event/reuniao-de-diretoria-aps/
END:VEVENT
BEGIN:VEVENT
DTSTART;TZID=America/Sao_Paulo:20191212T093000
DTEND;TZID=America/Sao_Paulo:20191212T120000
DTSTAMP:20260423T085512
CREATED:20191212T185732Z
LAST-MODIFIED:20191212T185732Z
UID:3836-1576143000-1576152000@sargentoreginauro.com.br
SUMMARY:Sessão Ordinária
DESCRIPTION:
URL:https://sargentoreginauro.com.br/event/sessao-ordinaria-79/
END:VEVENT
BEGIN:VEVENT
DTSTART;TZID=America/Sao_Paulo:20191212T090000
DTEND;TZID=America/Sao_Paulo:20191212T130000
DTSTAMP:20260423T085512
CREATED:20191212T185704Z
LAST-MODIFIED:20191212T185704Z
UID:3834-1576141200-1576155600@sargentoreginauro.com.br
SUMMARY:Evento "Plano de Manutenção Predial - A Engenharia em Permanente Ação"
DESCRIPTION:
URL:https://sargentoreginauro.com.br/event/evento-plano-de-manutencao-predial-a-engenharia-em-permanente-acao/
END:VEVENT
BEGIN:VEVENT
DTSTART;TZID=America/Sao_Paulo:20191212T060000
DTEND;TZID=America/Sao_Paulo:20191212T070000
DTSTAMP:20260423T085512
CREATED:20191212T185631Z
LAST-MODIFIED:20191212T185631Z
UID:3832-1576130400-1576134000@sargentoreginauro.com.br
SUMMARY:Visita ao Quartel da PM no Pirambu
DESCRIPTION:
URL:https://sargentoreginauro.com.br/event/visita-ao-quartel-da-pm-no-pirambu/
END:VEVENT
END:VCALENDAR