BEGIN:VCALENDAR
VERSION:2.0
PRODID:-//Sargento Reginauro - ECPv6.15.14//NONSGML v1.0//EN
CALSCALE:GREGORIAN
METHOD:PUBLISH
X-WR-CALNAME:Sargento Reginauro
X-ORIGINAL-URL:https://sargentoreginauro.com.br
X-WR-CALDESC:Eventos para Sargento Reginauro
REFRESH-INTERVAL;VALUE=DURATION:PT1H
X-Robots-Tag:noindex
X-PUBLISHED-TTL:PT1H
BEGIN:VTIMEZONE
TZID:America/Sao_Paulo
BEGIN:STANDARD
TZOFFSETFROM:-0200
TZOFFSETTO:-0300
TZNAME:-03
DTSTART:20180218T020000
END:STANDARD
BEGIN:DAYLIGHT
TZOFFSETFROM:-0300
TZOFFSETTO:-0200
TZNAME:-02
DTSTART:20181104T030000
END:DAYLIGHT
BEGIN:STANDARD
TZOFFSETFROM:-0200
TZOFFSETTO:-0300
TZNAME:-03
DTSTART:20190217T020000
END:STANDARD
END:VTIMEZONE
BEGIN:VEVENT
DTSTART;TZID=America/Sao_Paulo:20191111T083000
DTEND;TZID=America/Sao_Paulo:20191111T093000
DTSTAMP:20260424T024423
CREATED:20191118T161603Z
LAST-MODIFIED:20191118T161603Z
UID:3302-1573461000-1573464600@sargentoreginauro.com.br
SUMMARY:Atendimento - PMs e BMs
DESCRIPTION:
URL:https://sargentoreginauro.com.br/event/atendimento-pms-e-bms/
END:VEVENT
BEGIN:VEVENT
DTSTART;TZID=America/Sao_Paulo:20191111T060000
DTEND;TZID=America/Sao_Paulo:20191111T070000
DTSTAMP:20260424T024423
CREATED:20191118T161526Z
LAST-MODIFIED:20191118T161526Z
UID:3300-1573452000-1573455600@sargentoreginauro.com.br
SUMMARY:Aulão da 3ª idade - Cidadania Ativa
DESCRIPTION:
URL:https://sargentoreginauro.com.br/event/aulao-da-3a-idade-cidadania-ativa-25/
END:VEVENT
BEGIN:VEVENT
DTSTART;TZID=America/Sao_Paulo:20191110T170000
DTEND;TZID=America/Sao_Paulo:20191110T210000
DTSTAMP:20260424T024423
CREATED:20191118T161500Z
LAST-MODIFIED:20191118T161500Z
UID:3298-1573405200-1573419600@sargentoreginauro.com.br
SUMMARY:Feira Tem Tudo Aqui - 5ª edição
DESCRIPTION:
URL:https://sargentoreginauro.com.br/event/feira-tem-tudo-aqui-5a-edicao-2/
END:VEVENT
BEGIN:VEVENT
DTSTART;TZID=America/Sao_Paulo:20191110T063000
DTEND;TZID=America/Sao_Paulo:20191110T083000
DTSTAMP:20260424T024423
CREATED:20191118T161437Z
LAST-MODIFIED:20191118T161437Z
UID:3296-1573367400-1573374600@sargentoreginauro.com.br
SUMMARY:1ª Corrida de Rua do Centro Universitário UNIGRANDE
DESCRIPTION:
URL:https://sargentoreginauro.com.br/event/1a-corrida-de-rua-do-centro-universitario-unigrande/
END:VEVENT
BEGIN:VEVENT
DTSTART;TZID=America/Sao_Paulo:20191109T200000
DTEND;TZID=America/Sao_Paulo:20191109T210000
DTSTAMP:20260424T024423
CREATED:20191118T161403Z
LAST-MODIFIED:20191118T161403Z
UID:3294-1573329600-1573333200@sargentoreginauro.com.br
SUMMARY:Festival da Buchada
DESCRIPTION:
URL:https://sargentoreginauro.com.br/event/festival-da-buchada/
END:VEVENT
BEGIN:VEVENT
DTSTART;TZID=America/Sao_Paulo:20191109T190000
DTEND;TZID=America/Sao_Paulo:20191109T200000
DTSTAMP:20260424T024423
CREATED:20191118T161336Z
LAST-MODIFIED:20191118T161336Z
UID:3292-1573326000-1573329600@sargentoreginauro.com.br
SUMMARY:Feira Tem Tudo Aqui - 5ª edição
DESCRIPTION:
URL:https://sargentoreginauro.com.br/event/feira-tem-tudo-aqui-5a-edicao/
END:VEVENT
BEGIN:VEVENT
DTSTART;TZID=America/Sao_Paulo:20191109T170000
DTEND;TZID=America/Sao_Paulo:20191109T190000
DTSTAMP:20260424T024423
CREATED:20191118T161312Z
LAST-MODIFIED:20191118T161312Z
UID:3290-1573318800-1573326000@sargentoreginauro.com.br
SUMMARY:Visita ao Quartel PM da Parangaba com Soldado Noelio
DESCRIPTION:
URL:https://sargentoreginauro.com.br/event/visita-ao-quartel-pm-da-parangaba-com-soldado-noelio/
END:VEVENT
BEGIN:VEVENT
DTSTART;TZID=America/Sao_Paulo:20191109T153000
DTEND;TZID=America/Sao_Paulo:20191109T173000
DTSTAMP:20260424T024423
CREATED:20191118T161250Z
LAST-MODIFIED:20191118T161250Z
UID:3288-1573313400-1573320600@sargentoreginauro.com.br
SUMMARY:Evento I Cobra Criada/Batizado Turma Capoeira Cidadania Ativa
DESCRIPTION:
URL:https://sargentoreginauro.com.br/event/evento-i-cobra-criada-batizado-turma-capoeira-cidadania-ativa/
END:VEVENT
BEGIN:VEVENT
DTSTART;TZID=America/Sao_Paulo:20191109T090000
DTEND;TZID=America/Sao_Paulo:20191109T120000
DTSTAMP:20260424T024423
CREATED:20191118T161224Z
LAST-MODIFIED:20191118T161224Z
UID:3286-1573290000-1573300800@sargentoreginauro.com.br
SUMMARY:Evento - Movimento Vidas
DESCRIPTION:
URL:https://sargentoreginauro.com.br/event/evento-movimento-vidas/
END:VEVENT
BEGIN:VEVENT
DTSTART;TZID=America/Sao_Paulo:20191108T170000
DTEND;TZID=America/Sao_Paulo:20191108T180000
DTSTAMP:20260424T024423
CREATED:20191118T161135Z
LAST-MODIFIED:20191118T161135Z
UID:3284-1573232400-1573236000@sargentoreginauro.com.br
SUMMARY:Reunião APS
DESCRIPTION:
URL:https://sargentoreginauro.com.br/event/reuniao-aps/
END:VEVENT
BEGIN:VEVENT
DTSTART;TZID=America/Sao_Paulo:20191108T110000
DTEND;TZID=America/Sao_Paulo:20191108T120000
DTSTAMP:20260424T024423
CREATED:20191118T160925Z
LAST-MODIFIED:20191118T160925Z
UID:3282-1573210800-1573214400@sargentoreginauro.com.br
SUMMARY:Reunião com o Comando do CBMCE e Capitão Wagner
DESCRIPTION:
URL:https://sargentoreginauro.com.br/event/reuniao-com-o-comando-do-cbmce-e-capitao-wagner/
END:VEVENT
BEGIN:VEVENT
DTSTART;TZID=America/Sao_Paulo:20191108T090000
DTEND;TZID=America/Sao_Paulo:20191108T100000
DTSTAMP:20260424T024423
CREATED:20191118T160819Z
LAST-MODIFIED:20191118T160819Z
UID:3280-1573203600-1573207200@sargentoreginauro.com.br
SUMMARY:Reunião com Adriana
DESCRIPTION:
URL:https://sargentoreginauro.com.br/event/reuniao-com-adriana/
END:VEVENT
BEGIN:VEVENT
DTSTART;TZID=America/Sao_Paulo:20191108T080000
DTEND;TZID=America/Sao_Paulo:20191108T090000
DTSTAMP:20260424T024423
CREATED:20191118T160750Z
LAST-MODIFIED:20191118T160750Z
UID:3278-1573200000-1573203600@sargentoreginauro.com.br
SUMMARY:Abertura do Dia da Beleza APS
DESCRIPTION:
URL:https://sargentoreginauro.com.br/event/abertura-do-dia-da-beleza-aps/
END:VEVENT
BEGIN:VEVENT
DTSTART;TZID=America/Sao_Paulo:20191107T150000
DTEND;TZID=America/Sao_Paulo:20191107T163000
DTSTAMP:20260424T024423
CREATED:20191118T160621Z
LAST-MODIFIED:20191118T160621Z
UID:3276-1573138800-1573144200@sargentoreginauro.com.br
SUMMARY:Reunião com Dep. Soldado Noelio\, Dep. Dr. Sarto e Associações
DESCRIPTION:
URL:https://sargentoreginauro.com.br/event/reuniao-com-dep-soldado-noelio-dep-dr-sarto-e-associacoes/
END:VEVENT
BEGIN:VEVENT
DTSTART;TZID=America/Sao_Paulo:20191107T133000
DTEND;TZID=America/Sao_Paulo:20191107T143000
DTSTAMP:20260424T024423
CREATED:20191118T160554Z
LAST-MODIFIED:20191118T160554Z
UID:3274-1573133400-1573137000@sargentoreginauro.com.br
SUMMARY:Reunião
DESCRIPTION:
URL:https://sargentoreginauro.com.br/event/reuniao-9/
END:VEVENT
BEGIN:VEVENT
DTSTART;TZID=America/Sao_Paulo:20191107T130000
DTEND;TZID=America/Sao_Paulo:20191107T133000
DTSTAMP:20260424T024423
CREATED:20191118T160526Z
LAST-MODIFIED:20191118T160526Z
UID:3272-1573131600-1573133400@sargentoreginauro.com.br
SUMMARY:Atendimento - André (GEPE)
DESCRIPTION:
URL:https://sargentoreginauro.com.br/event/atendimento-andre-gepe/
END:VEVENT
BEGIN:VEVENT
DTSTART;TZID=America/Sao_Paulo:20191107T093000
DTEND;TZID=America/Sao_Paulo:20191107T130000
DTSTAMP:20260424T024423
CREATED:20191118T160456Z
LAST-MODIFIED:20191118T160456Z
UID:3270-1573119000-1573131600@sargentoreginauro.com.br
SUMMARY:Sessão Ordinária
DESCRIPTION:
URL:https://sargentoreginauro.com.br/event/sessao-ordinaria-66/
END:VEVENT
BEGIN:VEVENT
DTSTART;TZID=America/Sao_Paulo:20191107T080000
DTEND;TZID=America/Sao_Paulo:20191107T090000
DTSTAMP:20260424T024423
CREATED:20191118T160427Z
LAST-MODIFIED:20191118T160427Z
UID:3268-1573113600-1573117200@sargentoreginauro.com.br
SUMMARY:Visita ao Bairro Mondubim
DESCRIPTION:
URL:https://sargentoreginauro.com.br/event/visita-ao-bairro-mondubim/
END:VEVENT
BEGIN:VEVENT
DTSTART;TZID=America/Sao_Paulo:20191106T143000
DTEND;TZID=America/Sao_Paulo:20191106T163000
DTSTAMP:20260424T024423
CREATED:20191118T160357Z
LAST-MODIFIED:20191118T160357Z
UID:3266-1573050600-1573057800@sargentoreginauro.com.br
SUMMARY:Audiência Pública: discutir a vistoria técnica nos edifícios
DESCRIPTION:
URL:https://sargentoreginauro.com.br/event/audiencia-publica-discutir-a-vistoria-tecnica-nos-edificios/
END:VEVENT
BEGIN:VEVENT
DTSTART;TZID=America/Sao_Paulo:20191106T093000
DTEND;TZID=America/Sao_Paulo:20191106T130000
DTSTAMP:20260424T024423
CREATED:20191118T160258Z
LAST-MODIFIED:20191118T160258Z
UID:3262-1573032600-1573045200@sargentoreginauro.com.br
SUMMARY:Sessão Ordinária
DESCRIPTION:
URL:https://sargentoreginauro.com.br/event/sessao-ordinaria-65/
END:VEVENT
BEGIN:VEVENT
DTSTART;TZID=America/Sao_Paulo:20191106T093000
DTEND;TZID=America/Sao_Paulo:20191106T103000
DTSTAMP:20260424T024423
CREATED:20191118T160332Z
LAST-MODIFIED:20191118T160332Z
UID:3264-1573032600-1573036200@sargentoreginauro.com.br
SUMMARY:Audiência Pública: Acessibilidade das Calçadas e Passeios Públicos de Fortaleza (MPCE)
DESCRIPTION:
URL:https://sargentoreginauro.com.br/event/audiencia-publica-acessibilidade-das-calcadas-e-passeios-publicos-de-fortaleza-mpce/
END:VEVENT
BEGIN:VEVENT
DTSTART;TZID=America/Sao_Paulo:20191106T080000
DTEND;TZID=America/Sao_Paulo:20191106T090000
DTSTAMP:20260424T024423
CREATED:20191118T160209Z
LAST-MODIFIED:20191118T160209Z
UID:3258-1573027200-1573030800@sargentoreginauro.com.br
SUMMARY:Reunião da Comissão Desenvolvimento Econômico\, Turismo\, Emprego e Renda
DESCRIPTION:
URL:https://sargentoreginauro.com.br/event/reuniao-da-comissao-desenvolvimento-economico-turismo-emprego-e-renda-8/
END:VEVENT
BEGIN:VEVENT
DTSTART;TZID=America/Sao_Paulo:20191106T080000
DTEND;TZID=America/Sao_Paulo:20191106T083000
DTSTAMP:20260424T024423
CREATED:20191118T160239Z
LAST-MODIFIED:20191118T160239Z
UID:3260-1573027200-1573029000@sargentoreginauro.com.br
SUMMARY:Entrevista para o Jornal da Câmara - 1ª edição
DESCRIPTION:
URL:https://sargentoreginauro.com.br/event/entrevista-para-o-jornal-da-camara-1a-edicao-5/
END:VEVENT
BEGIN:VEVENT
DTSTART;TZID=America/Sao_Paulo:20191105T210000
DTEND;TZID=America/Sao_Paulo:20191105T230000
DTSTAMP:20260424T024423
CREATED:20191118T160135Z
LAST-MODIFIED:20191118T160135Z
UID:3256-1572987600-1572994800@sargentoreginauro.com.br
SUMMARY:Pré Estreia Filme Bate Coração
DESCRIPTION:
URL:https://sargentoreginauro.com.br/event/pre-estreia-filme-bate-coracao/
END:VEVENT
BEGIN:VEVENT
DTSTART;TZID=America/Sao_Paulo:20191105T183000
DTEND;TZID=America/Sao_Paulo:20191105T203000
DTSTAMP:20260424T024423
CREATED:20191118T160108Z
LAST-MODIFIED:20191118T160108Z
UID:3254-1572978600-1572985800@sargentoreginauro.com.br
SUMMARY:Sessão solene em homenagem aos 60 anos da CDL de Fortaleza
DESCRIPTION:
URL:https://sargentoreginauro.com.br/event/sessao-solene-em-homenagem-aos-60-anos-da-cdl-de-fortaleza-2/
END:VEVENT
BEGIN:VEVENT
DTSTART;TZID=America/Sao_Paulo:20191105T160000
DTEND;TZID=America/Sao_Paulo:20191105T170000
DTSTAMP:20260424T024423
CREATED:20191118T160041Z
LAST-MODIFIED:20191118T160041Z
UID:3252-1572969600-1572973200@sargentoreginauro.com.br
SUMMARY:Café com as Coordenadoras
DESCRIPTION:
URL:https://sargentoreginauro.com.br/event/cafe-com-as-coordenadoras-5/
END:VEVENT
BEGIN:VEVENT
DTSTART;TZID=America/Sao_Paulo:20191105T140000
DTEND;TZID=America/Sao_Paulo:20191105T150000
DTSTAMP:20260424T024423
CREATED:20191118T160017Z
LAST-MODIFIED:20191118T160017Z
UID:3250-1572962400-1572966000@sargentoreginauro.com.br
SUMMARY:Início das aulas da 6ª turma do Curso de Corte e Escova
DESCRIPTION:
URL:https://sargentoreginauro.com.br/event/inicio-das-aulas-da-6a-turma-do-curso-de-corte-e-escova/
END:VEVENT
BEGIN:VEVENT
DTSTART;TZID=America/Sao_Paulo:20191105T130000
DTEND;TZID=America/Sao_Paulo:20191105T133000
DTSTAMP:20260424T024423
CREATED:20191101T153048Z
LAST-MODIFIED:20191101T153048Z
UID:3139-1572958800-1572960600@sargentoreginauro.com.br
SUMMARY:Atendimento
DESCRIPTION:
URL:https://sargentoreginauro.com.br/event/atendimento-32/
END:VEVENT
BEGIN:VEVENT
DTSTART;TZID=America/Sao_Paulo:20191105T093000
DTEND;TZID=America/Sao_Paulo:20191105T130000
DTSTAMP:20260424T024423
CREATED:20191101T151602Z
LAST-MODIFIED:20191101T151602Z
UID:3136-1572946200-1572958800@sargentoreginauro.com.br
SUMMARY:Sessão Ordinária
DESCRIPTION:
URL:https://sargentoreginauro.com.br/event/sessao-ordinaria-64/
END:VEVENT
BEGIN:VEVENT
DTSTART;TZID=America/Sao_Paulo:20191105T080000
DTEND;TZID=America/Sao_Paulo:20191105T090000
DTSTAMP:20260424T024423
CREATED:20191118T155954Z
LAST-MODIFIED:20191118T155954Z
UID:3248-1572940800-1572944400@sargentoreginauro.com.br
SUMMARY:Comemoração ao Dia Nacional da Cultura
DESCRIPTION:
URL:https://sargentoreginauro.com.br/event/comemoracao-ao-dia-nacional-da-cultura/
END:VEVENT
END:VCALENDAR