BEGIN:VCALENDAR
VERSION:2.0
PRODID:-//Sargento Reginauro - ECPv6.15.14//NONSGML v1.0//EN
CALSCALE:GREGORIAN
METHOD:PUBLISH
X-ORIGINAL-URL:https://sargentoreginauro.com.br
X-WR-CALDESC:Eventos para Sargento Reginauro
REFRESH-INTERVAL;VALUE=DURATION:PT1H
X-Robots-Tag:noindex
X-PUBLISHED-TTL:PT1H
BEGIN:VTIMEZONE
TZID:America/Sao_Paulo
BEGIN:STANDARD
TZOFFSETFROM:-0200
TZOFFSETTO:-0300
TZNAME:-03
DTSTART:20180218T020000
END:STANDARD
BEGIN:DAYLIGHT
TZOFFSETFROM:-0300
TZOFFSETTO:-0200
TZNAME:-02
DTSTART:20181104T030000
END:DAYLIGHT
BEGIN:STANDARD
TZOFFSETFROM:-0200
TZOFFSETTO:-0300
TZNAME:-03
DTSTART:20190217T020000
END:STANDARD
END:VTIMEZONE
BEGIN:VEVENT
DTSTART;TZID=America/Sao_Paulo:20191119T190000
DTEND;TZID=America/Sao_Paulo:20191119T220000
DTSTAMP:20260423T232958
CREATED:20191119T155009Z
LAST-MODIFIED:20191119T155009Z
UID:3349-1574190000-1574200800@sargentoreginauro.com.br
SUMMARY:VI Seminário Internacional Violência e Conflitos Sociais: Facções\, Crimes e Segurança Pública
DESCRIPTION:
URL:https://sargentoreginauro.com.br/event/vi-seminario-internacional-violencia-e-conflitos-sociais-faccoes-crimes-e-seguranca-publica/
END:VEVENT
BEGIN:VEVENT
DTSTART;TZID=America/Sao_Paulo:20191119T150000
DTEND;TZID=America/Sao_Paulo:20191119T170000
DTSTAMP:20260423T232958
CREATED:20191118T162827Z
LAST-MODIFIED:20191118T162827Z
UID:3340-1574175600-1574182800@sargentoreginauro.com.br
SUMMARY:Aniversário da Evanile
DESCRIPTION:
URL:https://sargentoreginauro.com.br/event/aniversario-da-evanile/
END:VEVENT
BEGIN:VEVENT
DTSTART;TZID=America/Sao_Paulo:20191119T130000
DTEND;TZID=America/Sao_Paulo:20191119T133000
DTSTAMP:20260423T232958
CREATED:20191118T162808Z
LAST-MODIFIED:20191118T162808Z
UID:3338-1574168400-1574170200@sargentoreginauro.com.br
SUMMARY:Atendimento
DESCRIPTION:
URL:https://sargentoreginauro.com.br/event/atendimento-33/
END:VEVENT
BEGIN:VEVENT
DTSTART;TZID=America/Sao_Paulo:20191119T093000
DTEND;TZID=America/Sao_Paulo:20191119T130000
DTSTAMP:20260423T232958
CREATED:20191118T162742Z
LAST-MODIFIED:20191118T162742Z
UID:3336-1574155800-1574168400@sargentoreginauro.com.br
SUMMARY:Sessão Ordinária
DESCRIPTION:
URL:https://sargentoreginauro.com.br/event/sessao-ordinaria-70/
END:VEVENT
BEGIN:VEVENT
DTSTART;TZID=America/Sao_Paulo:20191119T083000
DTEND;TZID=America/Sao_Paulo:20191119T093000
DTSTAMP:20260423T232958
CREATED:20191118T162709Z
LAST-MODIFIED:20191118T162709Z
UID:3334-1574152200-1574155800@sargentoreginauro.com.br
SUMMARY:Reunião
DESCRIPTION:
URL:https://sargentoreginauro.com.br/event/reuniao-11/
END:VEVENT
BEGIN:VEVENT
DTSTART;TZID=America/Sao_Paulo:20191118T070000
DTEND;TZID=America/Sao_Paulo:20191118T183000
DTSTAMP:20260423T232958
CREATED:20191118T162615Z
LAST-MODIFIED:20191118T162615Z
UID:3332-1574060400-1574101800@sargentoreginauro.com.br
SUMMARY:Entrega de doação Quartel BM Aracati e Crateús
DESCRIPTION:
URL:https://sargentoreginauro.com.br/event/entrega-de-doacao-quartel-bm-aracati-e-crateus/
END:VEVENT
BEGIN:VEVENT
DTSTART;TZID=America/Sao_Paulo:20191114T150000
DTEND;TZID=America/Sao_Paulo:20191114T170000
DTSTAMP:20260423T232958
CREATED:20191118T162539Z
LAST-MODIFIED:20191118T162539Z
UID:3330-1573743600-1573750800@sargentoreginauro.com.br
SUMMARY:Sessão Solene - Entrega da Medalha do Mérito Desportivo Ayrton Senna
DESCRIPTION:
URL:https://sargentoreginauro.com.br/event/sessao-solene-entrega-da-medalha-do-merito-desportivo-ayrton-senna/
END:VEVENT
BEGIN:VEVENT
DTSTART;TZID=America/Sao_Paulo:20191114T093000
DTEND;TZID=America/Sao_Paulo:20191114T130000
DTSTAMP:20260423T232958
CREATED:20191118T162512Z
LAST-MODIFIED:20191118T162512Z
UID:3328-1573723800-1573736400@sargentoreginauro.com.br
SUMMARY:Sessão Ordinária
DESCRIPTION:
URL:https://sargentoreginauro.com.br/event/sessao-ordinaria-69/
END:VEVENT
BEGIN:VEVENT
DTSTART;TZID=America/Sao_Paulo:20191114T083000
DTEND;TZID=America/Sao_Paulo:20191114T090000
DTSTAMP:20260423T232958
CREATED:20191118T162324Z
LAST-MODIFIED:20191118T162324Z
UID:3326-1573720200-1573722000@sargentoreginauro.com.br
SUMMARY:Entrevista Programa Plenário da Cidade com os Homenageados Rodrigo e Vittória
DESCRIPTION:
URL:https://sargentoreginauro.com.br/event/entrevista-programa-plenario-da-cidade-com-os-homenageados-rodrigo-e-vittoria/
END:VEVENT
BEGIN:VEVENT
DTSTART;TZID=America/Sao_Paulo:20191113T193000
DTEND;TZID=America/Sao_Paulo:20191113T210000
DTSTAMP:20260423T232958
CREATED:20191118T162243Z
LAST-MODIFIED:20191118T162243Z
UID:3324-1573673400-1573678800@sargentoreginauro.com.br
SUMMARY:Sessão Solene de entrega da Medalha Boticário Ferreira ao Coronel PM Vandesvaldo de Carvalho Moura
DESCRIPTION:
URL:https://sargentoreginauro.com.br/event/sessao-solene-de-entrega-da-medalha-boticario-ferreira-ao-coronel-pm-vandesvaldo-de-carvalho-moura/
END:VEVENT
BEGIN:VEVENT
DTSTART;TZID=America/Sao_Paulo:20191113T130000
DTEND;TZID=America/Sao_Paulo:20191113T140000
DTSTAMP:20260423T232958
CREATED:20191118T162208Z
LAST-MODIFIED:20191118T162208Z
UID:3322-1573650000-1573653600@sargentoreginauro.com.br
SUMMARY:Reunião
DESCRIPTION:
URL:https://sargentoreginauro.com.br/event/reuniao-10/
END:VEVENT
BEGIN:VEVENT
DTSTART;TZID=America/Sao_Paulo:20191113T100000
DTEND;TZID=America/Sao_Paulo:20191113T113000
DTSTAMP:20260423T232958
CREATED:20191118T162141Z
LAST-MODIFIED:20191118T162141Z
UID:3320-1573639200-1573644600@sargentoreginauro.com.br
SUMMARY:Audiência Pública Sistema Prisional: Vender é a solução?
DESCRIPTION:
URL:https://sargentoreginauro.com.br/event/audiencia-publica-sistema-prisional-vender-e-a-solucao/
END:VEVENT
BEGIN:VEVENT
DTSTART;TZID=America/Sao_Paulo:20191113T093000
DTEND;TZID=America/Sao_Paulo:20191113T130000
DTSTAMP:20260423T232958
CREATED:20191118T162115Z
LAST-MODIFIED:20191118T162115Z
UID:3318-1573637400-1573650000@sargentoreginauro.com.br
SUMMARY:Sessão Ordinária
DESCRIPTION:
URL:https://sargentoreginauro.com.br/event/sessao-ordinaria-68/
END:VEVENT
BEGIN:VEVENT
DTSTART;TZID=America/Sao_Paulo:20191113T080000
DTEND;TZID=America/Sao_Paulo:20191113T090000
DTSTAMP:20260423T232958
CREATED:20191118T162054Z
LAST-MODIFIED:20191118T162054Z
UID:3316-1573632000-1573635600@sargentoreginauro.com.br
SUMMARY:Reunião da Comissão Desenvolvimento Econômico\, Turismo\, Emprego e Renda
DESCRIPTION:
URL:https://sargentoreginauro.com.br/event/reuniao-da-comissao-desenvolvimento-economico-turismo-emprego-e-renda-9/
END:VEVENT
BEGIN:VEVENT
DTSTART;TZID=America/Sao_Paulo:20191112T193000
DTEND;TZID=America/Sao_Paulo:20191112T210000
DTSTAMP:20260423T232958
CREATED:20191118T162022Z
LAST-MODIFIED:20191118T162022Z
UID:3314-1573587000-1573592400@sargentoreginauro.com.br
SUMMARY:Sessão Solene em homenagem aos 10 anos da criação do Programa Sanfonas do Brasil - TV Ceará
DESCRIPTION:
URL:https://sargentoreginauro.com.br/event/sessao-solene-em-homenagem-aos-10-anos-da-criacao-do-programa-sanfonas-do-brasil-tv-ceara/
END:VEVENT
BEGIN:VEVENT
DTSTART;TZID=America/Sao_Paulo:20191112T180000
DTEND;TZID=America/Sao_Paulo:20191112T190000
DTSTAMP:20260423T232958
CREATED:20191118T161941Z
LAST-MODIFIED:20191118T161941Z
UID:3312-1573581600-1573585200@sargentoreginauro.com.br
SUMMARY:Missa 7º Dia PM Pedro Henrique
DESCRIPTION:
URL:https://sargentoreginauro.com.br/event/missa-7o-dia-pm-pedro-henrique/
END:VEVENT
BEGIN:VEVENT
DTSTART;TZID=America/Sao_Paulo:20191112T150000
DTEND;TZID=America/Sao_Paulo:20191112T163000
DTSTAMP:20260423T232958
CREATED:20191118T161913Z
LAST-MODIFIED:20191118T161913Z
UID:3310-1573570800-1573576200@sargentoreginauro.com.br
SUMMARY:Reunião com o Procurador Rafael Machado Moraes
DESCRIPTION:
URL:https://sargentoreginauro.com.br/event/reuniao-com-o-procurador-rafael-machado-moraes/
END:VEVENT
BEGIN:VEVENT
DTSTART;TZID=America/Sao_Paulo:20191112T093000
DTEND;TZID=America/Sao_Paulo:20191112T130000
DTSTAMP:20260423T232958
CREATED:20191118T161840Z
LAST-MODIFIED:20191118T161840Z
UID:3308-1573551000-1573563600@sargentoreginauro.com.br
SUMMARY:Sessão Ordinária
DESCRIPTION:
URL:https://sargentoreginauro.com.br/event/sessao-ordinaria-67/
END:VEVENT
BEGIN:VEVENT
DTSTART;TZID=America/Sao_Paulo:20191111T183000
DTEND;TZID=America/Sao_Paulo:20191111T203000
DTSTAMP:20260423T232958
CREATED:20191118T161814Z
LAST-MODIFIED:20191118T161814Z
UID:3306-1573497000-1573504200@sargentoreginauro.com.br
SUMMARY:Pacto de Cooperação - Ambiente: Empreendedorismo
DESCRIPTION:
URL:https://sargentoreginauro.com.br/event/pacto-de-cooperacao-ambiente-empreendedorismo/
END:VEVENT
BEGIN:VEVENT
DTSTART;TZID=America/Sao_Paulo:20191111T090000
DTEND;TZID=America/Sao_Paulo:20191111T100000
DTSTAMP:20260423T232958
CREATED:20191118T161746Z
LAST-MODIFIED:20191118T161746Z
UID:3304-1573462800-1573466400@sargentoreginauro.com.br
SUMMARY:Reunião Hospital da Mulher
DESCRIPTION:
URL:https://sargentoreginauro.com.br/event/reuniao-hospital-da-mulher/
END:VEVENT
BEGIN:VEVENT
DTSTART;TZID=America/Sao_Paulo:20191111T083000
DTEND;TZID=America/Sao_Paulo:20191111T093000
DTSTAMP:20260423T232958
CREATED:20191118T161603Z
LAST-MODIFIED:20191118T161603Z
UID:3302-1573461000-1573464600@sargentoreginauro.com.br
SUMMARY:Atendimento - PMs e BMs
DESCRIPTION:
URL:https://sargentoreginauro.com.br/event/atendimento-pms-e-bms/
END:VEVENT
BEGIN:VEVENT
DTSTART;TZID=America/Sao_Paulo:20191111T060000
DTEND;TZID=America/Sao_Paulo:20191111T070000
DTSTAMP:20260423T232958
CREATED:20191118T161526Z
LAST-MODIFIED:20191118T161526Z
UID:3300-1573452000-1573455600@sargentoreginauro.com.br
SUMMARY:Aulão da 3ª idade - Cidadania Ativa
DESCRIPTION:
URL:https://sargentoreginauro.com.br/event/aulao-da-3a-idade-cidadania-ativa-25/
END:VEVENT
BEGIN:VEVENT
DTSTART;TZID=America/Sao_Paulo:20191110T170000
DTEND;TZID=America/Sao_Paulo:20191110T210000
DTSTAMP:20260423T232958
CREATED:20191118T161500Z
LAST-MODIFIED:20191118T161500Z
UID:3298-1573405200-1573419600@sargentoreginauro.com.br
SUMMARY:Feira Tem Tudo Aqui - 5ª edição
DESCRIPTION:
URL:https://sargentoreginauro.com.br/event/feira-tem-tudo-aqui-5a-edicao-2/
END:VEVENT
BEGIN:VEVENT
DTSTART;TZID=America/Sao_Paulo:20191110T063000
DTEND;TZID=America/Sao_Paulo:20191110T083000
DTSTAMP:20260423T232958
CREATED:20191118T161437Z
LAST-MODIFIED:20191118T161437Z
UID:3296-1573367400-1573374600@sargentoreginauro.com.br
SUMMARY:1ª Corrida de Rua do Centro Universitário UNIGRANDE
DESCRIPTION:
URL:https://sargentoreginauro.com.br/event/1a-corrida-de-rua-do-centro-universitario-unigrande/
END:VEVENT
BEGIN:VEVENT
DTSTART;TZID=America/Sao_Paulo:20191109T200000
DTEND;TZID=America/Sao_Paulo:20191109T210000
DTSTAMP:20260423T232958
CREATED:20191118T161403Z
LAST-MODIFIED:20191118T161403Z
UID:3294-1573329600-1573333200@sargentoreginauro.com.br
SUMMARY:Festival da Buchada
DESCRIPTION:
URL:https://sargentoreginauro.com.br/event/festival-da-buchada/
END:VEVENT
BEGIN:VEVENT
DTSTART;TZID=America/Sao_Paulo:20191109T190000
DTEND;TZID=America/Sao_Paulo:20191109T200000
DTSTAMP:20260423T232958
CREATED:20191118T161336Z
LAST-MODIFIED:20191118T161336Z
UID:3292-1573326000-1573329600@sargentoreginauro.com.br
SUMMARY:Feira Tem Tudo Aqui - 5ª edição
DESCRIPTION:
URL:https://sargentoreginauro.com.br/event/feira-tem-tudo-aqui-5a-edicao/
END:VEVENT
BEGIN:VEVENT
DTSTART;TZID=America/Sao_Paulo:20191109T170000
DTEND;TZID=America/Sao_Paulo:20191109T190000
DTSTAMP:20260423T232958
CREATED:20191118T161312Z
LAST-MODIFIED:20191118T161312Z
UID:3290-1573318800-1573326000@sargentoreginauro.com.br
SUMMARY:Visita ao Quartel PM da Parangaba com Soldado Noelio
DESCRIPTION:
URL:https://sargentoreginauro.com.br/event/visita-ao-quartel-pm-da-parangaba-com-soldado-noelio/
END:VEVENT
BEGIN:VEVENT
DTSTART;TZID=America/Sao_Paulo:20191109T153000
DTEND;TZID=America/Sao_Paulo:20191109T173000
DTSTAMP:20260423T232958
CREATED:20191118T161250Z
LAST-MODIFIED:20191118T161250Z
UID:3288-1573313400-1573320600@sargentoreginauro.com.br
SUMMARY:Evento I Cobra Criada/Batizado Turma Capoeira Cidadania Ativa
DESCRIPTION:
URL:https://sargentoreginauro.com.br/event/evento-i-cobra-criada-batizado-turma-capoeira-cidadania-ativa/
END:VEVENT
BEGIN:VEVENT
DTSTART;TZID=America/Sao_Paulo:20191109T090000
DTEND;TZID=America/Sao_Paulo:20191109T120000
DTSTAMP:20260423T232958
CREATED:20191118T161224Z
LAST-MODIFIED:20191118T161224Z
UID:3286-1573290000-1573300800@sargentoreginauro.com.br
SUMMARY:Evento - Movimento Vidas
DESCRIPTION:
URL:https://sargentoreginauro.com.br/event/evento-movimento-vidas/
END:VEVENT
BEGIN:VEVENT
DTSTART;TZID=America/Sao_Paulo:20191108T170000
DTEND;TZID=America/Sao_Paulo:20191108T180000
DTSTAMP:20260423T232958
CREATED:20191118T161135Z
LAST-MODIFIED:20191118T161135Z
UID:3284-1573232400-1573236000@sargentoreginauro.com.br
SUMMARY:Reunião APS
DESCRIPTION:
URL:https://sargentoreginauro.com.br/event/reuniao-aps/
END:VEVENT
END:VCALENDAR